BEGIN:VCALENDAR
VERSION:2.0
PRODID:-//ChamberMaster//Event Calendar 2.0//EN
METHOD:PUBLISH
X-PUBLISHED-TTL:P3D
REFRESH-INTERVAL:P3D
CALSCALE:GREGORIAN
BEGIN:VEVENT
DTSTART:20180419T223000Z
DTEND:20180420T000000Z
X-MICROSOFT-CDO-ALLDAYEVENT:FALSE
SUMMARY:SCG Steering Committee Meeting
DESCRIPTION:
X-ALT-DESC;FMTTYPE=text/html:
LOCATION:Independence Chamber of Commerce 210 W. Truman Rd. Independence\, MO 64050
UID:e.2043.6130
SEQUENCE:3
DTSTAMP:20260424T055425Z
URL:https://business.ichamber.biz/events/details/scg-steering-committee-meeting-04-19-2018-6130
END:VEVENT

END:VCALENDAR
