BEGIN:VCALENDAR
VERSION:2.0
PRODID:-//ChamberMaster//Event Calendar 2.0//EN
METHOD:PUBLISH
X-PUBLISHED-TTL:P3D
REFRESH-INTERVAL:P3D
CALSCALE:GREGORIAN
BEGIN:VEVENT
DTSTART:20180621T223000Z
DTEND:20180622T000000Z
X-MICROSOFT-CDO-ALLDAYEVENT:FALSE
SUMMARY:SCG Steering Committee Meeting
DESCRIPTION:
X-ALT-DESC;FMTTYPE=text/html:
LOCATION:Independence Chamber of Commerce 210 W. Truman Rd. Independence\, MO 64050
UID:e.2043.6132
SEQUENCE:3
DTSTAMP:20260424T080020Z
URL:https://business.ichamber.biz/events/details/scg-steering-committee-meeting-06-21-2018-6132
END:VEVENT

END:VCALENDAR
