BEGIN:VCALENDAR
VERSION:2.0
PRODID:-//ChamberMaster//Event Calendar 2.0//EN
METHOD:PUBLISH
X-PUBLISHED-TTL:P3D
REFRESH-INTERVAL:P3D
CALSCALE:GREGORIAN
BEGIN:VEVENT
DTSTART:20150225T180000Z
DTEND:20150225T193000Z
X-MICROSOFT-CDO-ALLDAYEVENT:FALSE
SUMMARY:Small Business Continuing Education Series: Managing Multiple Locations
DESCRIPTION:Many businesses expand by adding offices or stores in different locations. But geographic growth involves logistical complexity and management finesse. Join us for this seminar by Brad Speaks\, President and CEO of Speaks Family Legacy Chapels\, on how to manage multiple locations right. \n\n\n\nThe Small Business Continuing Education Series is a free monthly service for Chamber Members and $15 for Non-Chamber members. Small businesses owners and managers are most often just too busy to get away for an all-day seminar to help them be better prepared to protect\, manage\, or grow their business. The Chamber's Small Business Continuing Education Series is an alternative to just not taking the time or not spending the money. The same presentation and discussion about the identified topic each month will occur two times on the day that the seminar is offered. The maximum attendance for each seminar session will be 25 so that there will be time for interaction and discussion related to the topic. Each offering of the Small Business Continuing Education Series will last no longer than 90 minutes and will start promptly at the advertised time. Presenters each month will be experts on the subject providing free consultation to Chamber members on the identified topic. All owners and managers of small businesses are encouraged to take advantage of one of the three sessions offered each month as a benefit of Chamber membership.\n\nAttendance is free for Chamber members\; but registration is requested..
X-ALT-DESC;FMTTYPE=text/html:<p data-mce-style="text-align: left\;">Many businesses expand by adding offices or stores in different locations. But geographic growth involves logistical complexity and management finesse. Join us for this seminar by Brad Speaks\, President and CEO of Speaks Family Legacy Chapels\, on how to manage multiple locations right.&nbsp\;<br />\n<br />\n<em>The Small Business Continuing Education Series is a free monthly service for Chamber Members and $15 for Non-Chamber members. Small businesses owners and managers are most often just too busy to get away for an all-day seminar to help them be better prepared to protect\, manage\, or grow their business. The Chamber&rsquo\;s Small Business Continuing Education Series is an alternative to just not taking the time or not spending the money. The same presentation and discussion about the identified topic each month will occur two&nbsp\;times on the day that the seminar is offered. The maximum attendance for each seminar session will be 25 so that there will be time for interaction and discussion related to the topic. Each offering of the Small Business Continuing Education Series will last no longer than 90 minutes and will start promptly at the advertised time. Presenters each month will be experts on the subject providing free consultation to Chamber members on the identified topic. All owners and managers of small businesses are encouraged to take advantage of one of the three sessions offered each month as a benefit of Chamber membership.</em></p>\n\n<p data-mce-style="text-align: left\;" style="line-height: 18px\; margin: 0px\; padding: 4px 0px 10px\; font-family: Arial\, Helvetica\, sans-serif\; font-size: 14px\;"><em>Attendance is free for Chamber members\; but registration is requested..</em></p>\n
LOCATION:Independence Chamber of Commerce Boardroom 210 W. Truman Road Independence\, MO 64050
UID:e.2043.1585
SEQUENCE:3
DTSTAMP:20260425T220347Z
URL:https://business.ichamber.biz/events/details/small-business-continuing-education-series-managing-multiple-locations-02-25-2015-1585
END:VEVENT

END:VCALENDAR
