BEGIN:VCALENDAR
VERSION:2.0
PRODID:-//ChamberMaster//Event Calendar 2.0//EN
METHOD:PUBLISH
X-PUBLISHED-TTL:P3D
REFRESH-INTERVAL:P3D
CALSCALE:GREGORIAN
BEGIN:VEVENT
DTSTART:20141118T133000Z
DTEND:20141118T150000Z
X-MICROSOFT-CDO-ALLDAYEVENT:FALSE
SUMMARY:Small Business Continuing Education Series: Simplifying Small Business Retirement Plans
DESCRIPTION:You're a busy\, successful business owner. Time flies. Don't wake up without a plan to fund your retirement. Spend an hour to learn how to maximize your future and minimize taxes while increasing employee appreciation. For those with a plan already\, we'll examine your success at meeting your fiduciary duty.\n\n  \n\n\n\nThe Small Business Continuing Education Series is a free monthly service for Chamber Members and $15 for Non-Chamber members. Small businesses owners and managers are most often just too busy to get away for an all-day seminar to help them be better prepared to protect\, manage\, or grow their business. The Chamber's Small Business Continuing Education Series is an alternative to just not taking the time or not spending the money. The same presentation and discussion about the identified topic each month will occur three times on the day that the seminar is offered. The maximum attendance for each seminar session will be 25 so that there will be time for interaction and discussion related to the topic. Each offering of the Small Business Continuing Education Series will last no longer than 90 minutes and will start promptly at the advertised time. Presenters each month will be experts on the subject providing free consultation to Chamber members on the identified topic. All owners and managers of small businesses are encouraged to take advantage of one of the three sessions offered each month as a benefit of Chamber membership.\n\nAttendance is free for Chamber members\; but registration is requested..
X-ALT-DESC;FMTTYPE=text/html:<p data-mce-style="text-align: left\;" style="line-height: 18px\; margin: 0px\; padding: 4px 0px 10px\; font-family: Arial\, Helvetica\, sans-serif\; font-size: 14px\;">You&rsquo\;re a busy\, successful business owner. Time flies. Don&rsquo\;t wake up without a plan to fund your retirement. Spend an hour to learn how to maximize your future and minimize taxes while increasing employee appreciation. For those with a plan already\, we&rsquo\;ll examine your success at meeting your fiduciary duty.<br />\n&nbsp\;&nbsp\;<br />\n<br />\n<em>The Small Business Continuing Education Series is a free monthly service for Chamber Members and $15 for Non-Chamber members. Small businesses owners and managers are most often just too busy to get away for an all-day seminar to help them be better prepared to protect\, manage\, or grow their business. The Chamber&rsquo\;s Small Business Continuing Education Series is an alternative to just not taking the time or not spending the money. The same presentation and discussion about the identified topic each month will occur three times on the day that the seminar is offered. The maximum attendance for each seminar session will be 25 so that there will be time for interaction and discussion related to the topic. Each offering of the Small Business Continuing Education Series will last no longer than 90 minutes and will start promptly at the advertised time. Presenters each month will be experts on the subject providing free consultation to Chamber members on the identified topic. All owners and managers of small businesses are encouraged to take advantage of one of the three sessions offered each month as a benefit of Chamber membership.</em></p>\n\n<p data-mce-style="text-align: left\;" style="line-height: 18px\; margin: 0px\; padding: 4px 0px 10px\; font-family: Arial\, Helvetica\, sans-serif\; font-size: 14px\;"><em>Attendance is free for Chamber members\; but registration is requested..</em></p>\n
LOCATION:Independence Chamber of Commerce Boardroom 210 W. Truman Road Independence\, MO 64050
UID:e.2043.442
SEQUENCE:3
DTSTAMP:20260426T015145Z
URL:https://business.ichamber.biz/events/details/small-business-continuing-education-series-simplifying-small-business-retirement-plans-11-18-2014-442
END:VEVENT

END:VCALENDAR
