BEGIN:VCALENDAR
VERSION:2.0
PRODID:-//ChamberMaster//Event Calendar 2.0//EN
METHOD:PUBLISH
X-PUBLISHED-TTL:P3D
REFRESH-INTERVAL:P3D
CALSCALE:GREGORIAN
BEGIN:VEVENT
DTSTART:20140916T123000Z
DTEND:20140916T140000Z
X-MICROSOFT-CDO-ALLDAYEVENT:FALSE
SUMMARY:Small Business Continuing Education Series: Telling the Story of Your Business and Products Effectively
DESCRIPTION:All businesses\, especially small businesses\, have a story of where the owner came from and how he/she got started. Learn how to use that and other story telling tactics to help not only communicate your business information effectively but also grow your business faster. \n\n\n\nOur expert presenter is Kathy Greenamyre\, Owner of The Power of Storytelling. \n\n\n\nThe Small Business Continuing Education Series is a free monthly service for Chamber Members and $15 for Non-Chamber members. Small businesses owners and managers are most often just too busy to get away for an all-day seminar to help them be better prepared to protect\, manage\, or grow their business. The Chamber's Small Business Continuing Education Series is an alternative to just not taking the time or not spending the money. The same presentation and discussion about the identified topic each month will occur three times on the day that the seminar is offered. The maximum attendance for each seminar session will be 25 so that there will be time for interaction and discussion related to the topic. Each offering of the Small Business Continuing Education Series will last no longer than 90 minutes and will start promptly at the advertised time. Presenters each month will be experts on the subject providing free consultation to Chamber members on the identified topic. All owners and managers of small businesses are encouraged to take advantage of one of the three sessions offered each month as a benefit of Chamber membership.\n\n \n\nAttendance is free for Chamber members\; but registration is requested..
X-ALT-DESC;FMTTYPE=text/html:<p data-mce-style="text-align: left\;" style="line-height: 18px\; margin: 0px\; padding: 4px 0px 10px\; font-family: Arial\, Helvetica\, sans-serif\; font-size: 14px\;"><span style="font-family: Arial\, Helvetica\, sans-serif\; font-size: 14px\; line-height: 18px\;">All businesses\, especially small businesses\, have a story of where the owner came from and how he/she got started. Learn how to use that and other story telling tactics to help not only communicate your business information effectively but also grow your business faster.&nbsp\;<br />\n<br />\nOur expert presenter is Kathy Greenamyre\, Owner of <a href="http://www.thepowerofstorytelling.com/">The Power of Storytelling.&nbsp\;</a></span><br />\n<br />\n<em>The Small Business Continuing Education Series is a free monthly service for Chamber Members and $15 for Non-Chamber members. Small businesses owners and managers are most often just too busy to get away for an all-day seminar to help them be better prepared to protect\, manage\, or grow their business. The Chamber&rsquo\;s Small Business Continuing Education Series is an alternative to just not taking the time or not spending the money. The same presentation and discussion about the identified topic each month will occur three times on the day that the seminar is offered. The maximum attendance for each seminar session will be 25 so that there will be time for interaction and discussion related to the topic. Each offering of the Small Business Continuing Education Series will last no longer than 90 minutes and will start promptly at the advertised time. Presenters each month will be experts on the subject providing free consultation to Chamber members on the identified topic. All owners and managers of small businesses are encouraged to take advantage of one of the three sessions offered each month as a benefit of Chamber membership.</em><br />\n&nbsp\;</p>\n\n<p data-mce-style="text-align: left\;" style="line-height: 18px\; margin: 0px\; padding: 4px 0px 10px\; font-family: Arial\, Helvetica\, sans-serif\; font-size: 14px\;"><em>Attendance is free for Chamber members\; but registration is requested..</em></p>\n
LOCATION:Independence Chamber of Commerce Boardroom 210 W. Truman Road Independence\, MO 64050
UID:e.2043.435
SEQUENCE:3
DTSTAMP:20260426T041805Z
URL:https://business.ichamber.biz/events/details/small-business-continuing-education-series-telling-the-story-of-your-business-and-products-effectively-09-16-2014-435
END:VEVENT

END:VCALENDAR
