BEGIN:VCALENDAR
VERSION:2.0
PRODID:-//ChamberMaster//Event Calendar 2.0//EN
METHOD:PUBLISH
X-PUBLISHED-TTL:P3D
REFRESH-INTERVAL:P3D
CALSCALE:GREGORIAN
BEGIN:VEVENT
DTSTART:20151201T150000Z
DTEND:20151201T160000Z
X-MICROSOFT-CDO-ALLDAYEVENT:FALSE
SUMMARY:Small Business Development Committee Meeting
DESCRIPTION:The monthly meeting of the Small Business Development Committee meets every 1st Tuesday of the month. \n\n\n\nThis Month's Agenda Coming Soon!
X-ALT-DESC;FMTTYPE=text/html:The monthly meeting of the Small Business Development Committee meets every 1st Tuesday of the month.&nbsp\;<br />\n<br />\nThis Month&#39\;s Agenda Coming Soon!
LOCATION:Independence Chamber of Commerce
UID:e.2043.3040
SEQUENCE:3
DTSTAMP:20260425T102048Z
URL:https://business.ichamber.biz/events/details/small-business-development-committee-meeting-12-01-2015-3040
END:VEVENT

END:VCALENDAR
