BEGIN:VCALENDAR
VERSION:2.0
PRODID:-//ChamberMaster//Event Calendar 2.0//EN
METHOD:PUBLISH
X-PUBLISHED-TTL:P3D
REFRESH-INTERVAL:P3D
CALSCALE:GREGORIAN
BEGIN:VEVENT
DTSTART;VALUE=DATE:20171125
DTEND;VALUE=DATE:20171126
TRANSP:TRANSPARENT
X-MICROSOFT-CDO-ALLDAYEVENT:TRUE
SUMMARY:Small Business Saturday
DESCRIPTION:Celebrate and support small businesses and all they do for our community. Join the Chamber\, the Independence EDC\, and the Independence Square Association in supporting and shopping your LOCAL small business during the holidays.
X-ALT-DESC;FMTTYPE=text/html:<span style="color: rgb(0\, 0\, 0)\; font-family: arial\, freesans\, helvetica\, sans-serif\;">Celebrate and support small businesses and all they do for our community. Join the Chamber\, the Independence EDC\, and the Independence Square Association in supporting and shopping your LOCAL small business during the holidays.</span>
LOCATION:
UID:e.2043.5347
SEQUENCE:3
DTSTAMP:20260424T065638Z
URL:https://business.ichamber.biz/events/details/small-business-saturday-11-25-2017-5347
END:VEVENT

END:VCALENDAR
