BEGIN:VCALENDAR
VERSION:2.0
PRODID:-//ChamberMaster//Event Calendar 2.0//EN
METHOD:PUBLISH
X-PUBLISHED-TTL:P3D
REFRESH-INTERVAL:P3D
CALSCALE:GREGORIAN
BEGIN:VEVENT
DTSTART:20181124T153000Z
DTEND:20181124T170000Z
X-MICROSOFT-CDO-ALLDAYEVENT:FALSE
SUMMARY:Small Business Saturday Kickoff
DESCRIPTION:Celebrate and support small businesses and all they do for our community on Saturday\, November 24th -- the Saturday after Thanksgiving-- for Small Business Saturday  !\n\n\n\nJoin the Chamber\, the Independence EDC\, and the Independence Square Association for this holiday shopping tradition in supporting and shopping your LOCAL small businesses.  Grab a friend or family member and come by the Independence Chamber of Commerce between 9:30 AM-11:00 AM on the big day to pick up a FREE shopping bag.  The first 100 visitors will receive a $5 Square Gift Certificate in their bag as a thank you for participating!\n\n\n\nThank you for all your support\, and we'll see you Saturday\, Nov 24th!
X-ALT-DESC;FMTTYPE=text/html:<p><span style="font-size:14px\;"><span style="font-family:verdana\;"><span style="color: rgb(0\, 0\, 0)\;">Celebrate and support small businesses and all they do for our community on Saturday\, November 24th -- the Saturday after </span></span></span><span style="color: rgb(0\, 0\, 0)\; font-family: arial\, freesans\, helvetica\, sans-serif\;"><span style="font-size:14px\;"><span style="font-family:verdana\;">Thanksgiving</span></span></span><span style="font-size:14px\;"><span style="font-family:verdana\;"><span style="color: rgb(0\, 0\, 0)\;">-- for&nbsp\;</span>Small Business Saturday&reg\;<span style="color: rgb(0\, 0\, 0)\;"> !<br />\n<br />\nJoin the Chamber\, the Independence EDC\, and the Independence Square Association for this holiday shopping tradition in supporting and shopping your LOCAL small businesses.&nbsp\;&nbsp\;</span>Grab a friend or family member and come by the Independence Chamber of Commerce between 9:30 AM-11:00 AM on the big day to pick up a <strong>FREE</strong> shopping bag.&nbsp\; The first 100 visitors will receive a $5 Square Gift Certificate in their bag as a thank you for participating!<br />\n<br />\nThank you for all your support\, and we&#39\;ll see you <strong>Saturday\, Nov 24th</strong>!</span></span><br />\n<span style="color: rgb(0\, 0\, 0)\; font-family: arial\, freesans\, helvetica\, sans-serif\;"><span style="font-size:14px\;"><span style="font-family:verdana\;">&nbsp\;</span></span></span></p>\n<br />\n&nbsp\;
LOCATION:Chamber of Commerce 210 W. Truman Road Independence\, MO 64050
UID:e.2043.8775
SEQUENCE:3
DTSTAMP:20260424T144430Z
URL:https://business.ichamber.biz/events/details/small-business-saturday-kickoff-8775
END:VEVENT

END:VCALENDAR
