BEGIN:VCALENDAR
VERSION:2.0
PRODID:-//ChamberMaster//Event Calendar 2.0//EN
METHOD:PUBLISH
X-PUBLISHED-TTL:P3D
REFRESH-INTERVAL:P3D
CALSCALE:GREGORIAN
BEGIN:VEVENT
DTSTART:20170328T203000Z
DTEND:20170328T213000Z
X-MICROSOFT-CDO-ALLDAYEVENT:FALSE
SUMMARY:Speaker Series
DESCRIPTION:Morgan Perry\, Business Specialist at Mid Continent Public Library will be this month's quest speaker. \n\n \n\n\nTOPIC:  \n\nHow to talk to your best customers about why they buy from you.
X-ALT-DESC;FMTTYPE=text/html:<div style="color: rgb(64\, 63\, 66)\; background-color: rgb(255\, 255\, 255)\; font-size: 18pt\; font-family: Calibri\, Helvetica\, Arial\, sans-serif\;"><span style="color: rgb(68\, 92\, 100)\;"><strong>Morgan Perry\, Business Specialist at Mid Continent Public Library&nbsp\;</strong></span><span style="color: rgb(68\, 92\, 100)\; font-size: 18pt\;">will be this month&#39\;s quest speaker.&nbsp\;</span></div>\n\n<div style="color: rgb(64\, 63\, 66)\; font-size: 13.3333px\; background-color: rgb(255\, 255\, 255)\; font-family: Calibri\, Helvetica\, Arial\, sans-serif\;">&nbsp\;</div>\n\n<div style="color: rgb(64\, 63\, 66)\; background-color: rgb(255\, 255\, 255)\; font-size: 18pt\; font-family: Calibri\, Helvetica\, Arial\, sans-serif\;">\n<div><span style="color: rgb(68\, 92\, 100)\;"><strong>TOPIC: &nbsp\;</strong></span></div>\n\n<div align="left"><span style="color: rgb(68\, 92\, 100)\;">How to talk to your best customers about why they buy from you.</span></div>\n</div>\n
LOCATION:Chamber of Commerce 210 W Truman Rd Independence MO 64050
UID:e.2043.4296
SEQUENCE:3
DTSTAMP:20260424T180357Z
URL:https://business.ichamber.biz/events/details/speaker-series-03-28-2017-4296
END:VEVENT

END:VCALENDAR
