BEGIN:VCALENDAR
VERSION:2.0
PRODID:-//ChamberMaster//Event Calendar 2.0//EN
METHOD:PUBLISH
X-PUBLISHED-TTL:P3D
REFRESH-INTERVAL:P3D
CALSCALE:GREGORIAN
BEGIN:VEVENT
DTSTART:20170525T170000Z
DTEND:20170525T180000Z
X-MICROSOFT-CDO-ALLDAYEVENT:FALSE
SUMMARY:Speaker Series
DESCRIPTION:"Volunteering Can Help Your Business"\n\n \n\nI bet you or your small business joined the Chamber to grow business.  That's a great reason to join\, but joining is just a first step in building opportunities for growth.  I have come to believe that it is in getting involved through volunteering or service that you will see the greatest benefit for you\, your team\, and your business.  Join me on May 25\, for an inspiring and direct conversation about how your future business may just be tied to the service you give.
X-ALT-DESC;FMTTYPE=text/html:<div id="x_yui_3_16_0_ym19_1_1493059333643_3731" style="font-family: &quot\;Helvetica Neue&quot\;\, Helvetica\, Arial\, &quot\;Lucida Grande&quot\;\, sans-serif\; font-size: 13px\;">&quot\;Volunteering Can Help Your Business&quot\;</div>\n\n<div id="x_yui_3_16_0_ym19_1_1493059333643_3731" style="font-family: &quot\;Helvetica Neue&quot\;\, Helvetica\, Arial\, &quot\;Lucida Grande&quot\;\, sans-serif\; font-size: 13px\;">&nbsp\;</div>\n\n<div dir="ltr" id="x_yui_3_16_0_ym19_1_1493059333643_3731" style="font-family: &quot\;Helvetica Neue&quot\;\, Helvetica\, Arial\, &quot\;Lucida Grande&quot\;\, sans-serif\; font-size: 13px\;">I bet you or your small business joined the Chamber to grow business. &nbsp\;That&#39\;s a great reason to join\, but joining is just a first step in building opportunities for growth. &nbsp\;I have come to believe that it is in getting involved through volunteering or service that you will see the greatest benefit for you\, your team\, and your business. &nbsp\;<span class="contextualExtensionHighlight ms-font-color-themePrimary ms-border-color-themePrimary ident_547_679" role="button" style="border-color: rgb(0\, 120\, 215)\; color: rgb(0\, 120\, 215)\; border-bottom-width: 1px\; border-bottom-style: dashed\; cursor: pointer\;" tabindex="0">Join me on May 25\, for an inspiring and direct conversation about how your future business may just be tied to the service you give.</span>&nbsp\;&nbsp\;</div>\n
LOCATION:Chamber of Commerce Building 210 W. Truman Road Independence\, MO 64050
UID:e.2043.4298
SEQUENCE:3
DTSTAMP:20260424T153335Z
URL:https://business.ichamber.biz/events/details/speaker-series-05-25-2017-4298
END:VEVENT

END:VCALENDAR
