BEGIN:VCALENDAR
VERSION:2.0
PRODID:-//ChamberMaster//Event Calendar 2.0//EN
METHOD:PUBLISH
X-PUBLISHED-TTL:P3D
REFRESH-INTERVAL:P3D
CALSCALE:GREGORIAN
BEGIN:VEVENT
DTSTART:20161027T200000Z
DTEND:20161027T210000Z
X-MICROSOFT-CDO-ALLDAYEVENT:FALSE
SUMMARY:Speaker Series - Bob Glaser
DESCRIPTION:Speaker Series - Bob Glaser\n\n\n\nBob shares his wisdom from his career as a sales professional. Sure to be an entertaining and enlightening hour.
X-ALT-DESC;FMTTYPE=text/html:Speaker Series - Bob Glaser<br />\n<br />\nBob shares his wisdom from his career as a sales professional. Sure to be an entertaining and enlightening hour.
LOCATION:Independence Chamber of Commerce Building 210 W Truman Road Independence\, MO 64050
UID:e.2043.3582
SEQUENCE:3
DTSTAMP:20260425T004814Z
URL:https://business.ichamber.biz/events/details/speaker-series-bob-glaser-10-27-2016-3582
END:VEVENT

END:VCALENDAR
