BEGIN:VCALENDAR
VERSION:2.0
PRODID:-//ChamberMaster//Event Calendar 2.0//EN
METHOD:PUBLISH
X-PUBLISHED-TTL:P3D
REFRESH-INTERVAL:P3D
CALSCALE:GREGORIAN
BEGIN:VEVENT
DTSTART:20170221T213000Z
DTEND:20170221T223000Z
X-MICROSOFT-CDO-ALLDAYEVENT:FALSE
SUMMARY:Speaker Series - Buddy Young
DESCRIPTION:Buddy Young will speak about his career in sales and as a football coach and what lessons he's learned.
X-ALT-DESC;FMTTYPE=text/html:Buddy Young will speak&nbsp\;about his career in sales and as a football coach and what lessons he&#39\;s learned.
LOCATION:
UID:e.2043.3623
SEQUENCE:3
DTSTAMP:20260424T191910Z
URL:https://business.ichamber.biz/events/details/speaker-series-buddy-young-02-21-2017-3623
END:VEVENT

END:VCALENDAR
