BEGIN:VCALENDAR
VERSION:2.0
PRODID:-//ChamberMaster//Event Calendar 2.0//EN
METHOD:PUBLISH
X-PUBLISHED-TTL:P3D
REFRESH-INTERVAL:P3D
CALSCALE:GREGORIAN
BEGIN:VEVENT
DTSTART:20160927T200000Z
DTEND:20160927T210000Z
X-MICROSOFT-CDO-ALLDAYEVENT:FALSE
SUMMARY:Speaker Series -Jeanie Lauer
DESCRIPTION:"If you don't know where you're going you will get there." Words of wisdom from Jeanie Lauer on workforce development. Right now we have four different generations in the workforce. She will show you how to manage for each generation effectively. Join us for this strategic business planning seminar!\n\n\n\n\n\nBiography: Born May 8\, 1954 in Cape Girardeau\, Rep. Lauer cur rently resides in Blue Springs. She has a son\, Chris. She is a gradu ate of Perryville High School\, and received a B.S. in Mathematics from Southeast Missouri University and her M.B.A. from Central Michigan University. In addition to her legislative duties\, Rep. Lauer is the founder and owner of The Management Edge\, a firm providing mediation\, strategic planning and performance improvement ser vices to area enterprises. She also served as the Blue Springs District 1 City Councilwoman. Rep. Lauer serves on the Select Committee on Commerce (vice-chair)\, the Select Committee on Rules\, the Appropriations   High Education (vice-chair)\, Children and Families\, Public Safety and Emergency Preparedness\, and Utility Infrastructure committees in the Missouri House of Representatives.
X-ALT-DESC;FMTTYPE=text/html:<br />\n<br />\n<br />\n&ldquo\;If you don&rsquo\;t know where you&rsquo\;re going you will get there.&rdquo\; Words of wisdom from Jeanie Lauer on workforce development. Right now we have four different generations in the workforce. She will show you how to manage for each generation effectively. Join us for this strategic business planning seminar!<br />\n<br />\n<br />\n<b style="color: rgb(33\, 33\, 33)\; font-family: Calibri\, sans-serif\; font-size: 14.6667px\; background-color: rgb(255\, 255\, 255)\;">Biography:&nbsp\;</b><span style="color: rgb(33\, 33\, 33)\; font-family: Calibri\, sans-serif\; font-size: 14.6667px\; background-color: rgb(255\, 255\, 255)\;">Born May 8\, 1954 in Cape Girardeau\, Rep.&nbsp\;</span><span class="highlight" id="0.9153946274264662" name="searchHitInReadingPane" style="color: rgb(33\, 33\, 33)\; font-family: Calibri\, sans-serif\; font-size: 14.6667px\; background-color: rgb(255\, 238\, 148)\;">Lauer</span><span style="color: rgb(33\, 33\, 33)\; font-family: Calibri\, sans-serif\; font-size: 14.6667px\; background-color: rgb(255\, 255\, 255)\;">&nbsp\;cur&shy\;rently resides in Blue Springs. She has a son\, Chris. She is a gradu&shy\;ate of Perryville High School\, and received a B.S. in Mathematics from Southeast Missouri University and her M.B.A. from Central Michigan University. In addition to her legislative duties\, Rep.&nbsp\;</span><span class="highlight" id="0.1555632281264343" name="searchHitInReadingPane" style="color: rgb(33\, 33\, 33)\; font-family: Calibri\, sans-serif\; font-size: 14.6667px\; background-color: rgb(255\, 238\, 148)\;">Lauer</span><span style="color: rgb(33\, 33\, 33)\; font-family: Calibri\, sans-serif\; font-size: 14.6667px\; background-color: rgb(255\, 255\, 255)\;">&nbsp\;is the founder and owner of The Management Edge\, a firm providing mediation\, strategic planning and performance improvement ser&shy\;vices to area enterprises. She also served as the Blue Springs District 1 City Councilwoman. Rep.&nbsp\;</span><span class="highlight" id="0.14882104225871662" name="searchHitInReadingPane" style="color: rgb(33\, 33\, 33)\; font-family: Calibri\, sans-serif\; font-size: 14.6667px\; background-color: rgb(255\, 238\, 148)\;">Lauer</span><span style="color: rgb(33\, 33\, 33)\; font-family: Calibri\, sans-serif\; font-size: 14.6667px\; background-color: rgb(255\, 255\, 255)\;">&nbsp\;serves on the Select Committee on Commerce (vice-chair)\, the Select Committee on Rules\, the Appropriations &ndash\; High Education (vice-chair)\, Children and Families\, Public Safety and Emergency Preparedness\, and Utility Infrastructure committees in the Missouri House of Representatives. &nbsp\;</span>
LOCATION:Independence Chamber of Commerce 210 W. Truman Road Independence\, MO 64050
UID:e.2043.3580
SEQUENCE:3
DTSTAMP:20260425T015528Z
URL:https://business.ichamber.biz/events/details/speaker-series-jeanie-lauer-09-27-2016-3580
END:VEVENT

END:VCALENDAR
