BEGIN:VCALENDAR
VERSION:2.0
PRODID:-//ChamberMaster//Event Calendar 2.0//EN
METHOD:PUBLISH
X-PUBLISHED-TTL:P3D
REFRESH-INTERVAL:P3D
CALSCALE:GREGORIAN
BEGIN:VEVENT
DTSTART:20191015T163000Z
DTEND:20191015T180000Z
X-MICROSOFT-CDO-ALLDAYEVENT:FALSE
SUMMARY:Speaker Series: Making Your Business Bankable
DESCRIPTION:Speaker Series:  Making Your Business Bankable\n\n\n\nGuest Speaker::::: Joe Drake\n\n\nAttend this program and you will learn the following:\n\n\n	\n	What do banks look at  what and when should I look at these factors\n	\n	\n	Loans - Uses\, Qualifications\, Types and Preparation\n	\n	\n	What services are out there? Credit card Processing\, QuickBooks integrations\, Transfers/ Wires\, Credit Cards\n	\n	\n	Making my money work for me  Money markets\, savings\, checking\, lines of credit\n	\n	\n	Can I switch banks? What does it take? How/ when should I go about it?\n	\n\nTo participate\, PLEASE REGISTER FOR THE SPEAKER SERIES BY: October 11\, 2019\n\n\n\nJOE DRAKE BIO:\n\nJoe Drake is a Business Banking Center Manager for Bank Midwest a division of NBH\, where he helps new and existing businesses with all their banking needs and educating business owners on how Bank Midwest can help them grow and expand.\n\n \n\nJoe has worked for Bank Midwest for nearly 5 years and in Banking for 8. Before Bank Midwest Joe worked for US Bank and Bank of West.  He enjoys time with his children doing such activities as softball and baseball. Joe grew up in Lee's Summit and Graduated from the University of Central Missouri.  Joe also serves in the US Air Force at Whiteman Air Force Base.  When Joe is not at kids sports or out in the community he is watching the Chiefs and Royals.
X-ALT-DESC;FMTTYPE=text/html:<strong><span style="font-family:arial\;"><span style="font-size:20px\;">Speaker Series:&nbsp\; Making Your Business Bankable</span></span></strong><br />\n<br />\n<strong><span style="font-family:arial\;"><span style="font-size:20px\;"><span style="color:#666666\;">Guest Speaker::::: Joe Drake</span></span></span></strong>\n<div><br />\n<strong><span style="font-size:18px\;"><span style="font-family:arial\;">Attend this program and you will learn the following:</span></span></strong></div>\n\n<ul>\n	<li style="color:#1F497D\;margin-left:0in\;">\n	<div><span style="font-size:18px\;"><span style="color:#7db067\;">What do banks look at&hellip\; what and when should I look at these factors</span></span></div>\n	</li>\n	<li style="color:#1F497D\;margin-left:0in\;">\n	<div><span style="font-size:18px\;"><span style="color:#7db067\;">Loans - Uses\, Qualifications\, Types and Preparation</span></span></div>\n	</li>\n	<li style="color:#1F497D\;margin-left:0in\;">\n	<div><span style="font-size:18px\;"><span style="color:#7db067\;">What services are out there? Credit card Processing\, QuickBooks integrations\, Transfers/ Wires\, Credit Cards</span></span></div>\n	</li>\n	<li style="color:#1F497D\;margin-left:0in\;">\n	<div><span style="font-size:18px\;"><span style="color:#7db067\;">Making my money work for me&hellip\; Money markets\, savings\, checking\, lines of credit</span></span></div>\n	</li>\n	<li style="color:#1F497D\;margin-left:0in\;">\n	<div><span style="font-size:18px\;"><span style="color:#7db067\;">Can I switch banks? What does it take? How/ when should I go about it?</span></span></div>\n	</li>\n</ul>\n<span style="font-size:18px\;"><span style="color:#FF0000\;"><span style="font-family:verdana\,sans-serif\;">To participate\, PLEASE REGISTER FOR THE SPEAKER SERIES </span></span><span style="font-family:verdana\,sans-serif\;"><span style="color:#FF0000\;">BY:</span></span><span style="color:#FF0000\;"><span style="font-family:verdana\,sans-serif\;"> <strong>October 11\, 2019</strong></span></span></span><br />\n<br />\n<font color="#000000" face="calibri\, sans-serif"><span style="font-size: 20px\;"><b>JOE DRAKE BIO:</b></span></font><br />\n<span style="color:#000000\;"><em>Joe Drake is a Business Banking Center Manager for Bank Midwest a division of NBH\, where he helps new and existing businesses with all their banking needs and educating business owners on how Bank Midwest can help them grow and expand.<br />\n&nbsp\;<br />\nJoe has worked for Bank Midwest for nearly 5 years and in Banking for 8. Before Bank Midwest Joe worked for US Bank and Bank of West.&nbsp\; He&nbsp\;enjoys time with his children doing such activities as softball and baseball. Joe grew up in Lee&rsquo\;s Summit and Graduated from the University of Central Missouri.&nbsp\;&nbsp\;Joe also serves in the US Air Force at Whiteman Air Force Base. &nbsp\;When Joe is not at kids sports or out in the community he is watching the Chiefs and Royals. </em></span><br />\n<br />\n<br />\n<br />\n&nbsp\;
LOCATION:Independence Chamber of Commerce (Boardroom) 210 W. Truman Road Independence\, MO 64050
UID:e.2043.11587
SEQUENCE:3
DTSTAMP:20260425T040139Z
URL:https://business.ichamber.biz/events/details/speaker-series-making-your-business-bankable-11587
END:VEVENT

END:VCALENDAR
