BEGIN:VCALENDAR
VERSION:2.0
PRODID:-//ChamberMaster//Event Calendar 2.0//EN
METHOD:PUBLISH
X-PUBLISHED-TTL:P3D
REFRESH-INTERVAL:P3D
CALSCALE:GREGORIAN
BEGIN:VEVENT
DTSTART:20170727T170000Z
DTEND:20170727T180000Z
X-MICROSOFT-CDO-ALLDAYEVENT:FALSE
SUMMARY:Speaker Series: Mary House with Cruise Planners
DESCRIPTION:Speaker Series - Mary House with Cruise Planners \n\n\n\nMary will be sharing with us:\n\n	Best Destinations for your vacation\n	Proper Documentation\n	International vs Domestic Cruising vs Land\n	Choosing the right air and understanding the new seat codes\n	Best times to travel
X-ALT-DESC;FMTTYPE=text/html:Speaker Series - Mary House with Cruise Planners&nbsp\;<br />\n<br />\nMary will be sharing with us:\n<ul>\n	<li>Best Destinations for your vacation</li>\n	<li>Proper Documentation</li>\n	<li>International vs Domestic Cruising vs Land</li>\n	<li>Choosing the right air and understanding the new seat codes</li>\n	<li>Best times to travel</li>\n</ul>\n<br />\n<br />\n&nbsp\;
LOCATION:Independence Chamber of Commerce Building 210 W Truman Road Independence\, MO 64050
UID:e.2043.4960
SEQUENCE:3
DTSTAMP:20260424T130822Z
URL:https://business.ichamber.biz/events/details/speaker-series-mary-house-with-cruise-planners-07-27-2017-4960
END:VEVENT

END:VCALENDAR
