BEGIN:VCALENDAR
VERSION:2.0
PRODID:-//ChamberMaster//Event Calendar 2.0//EN
METHOD:PUBLISH
X-PUBLISHED-TTL:P3D
REFRESH-INTERVAL:P3D
CALSCALE:GREGORIAN
BEGIN:VEVENT
DTSTART:20170427T170000Z
DTEND:20170427T180000Z
X-MICROSOFT-CDO-ALLDAYEVENT:FALSE
SUMMARY:Speaker Series - Pat Farrell
DESCRIPTION:Patrick J. Farrell \n\n\n\nI am a business owner\, educator\, author\, and trainer in the areas of process controls\, business management\, ownership\, customer service\, technical training\, strategic planning\, and business performance. \n\n\n\nWorking for large and small organizations achieving Optimum PERFOMance is the key to successful organizations. \n\n\n\nLet's continue to develop the skills necessary to compete and be successful!!! \n\n\n\n \n\n\n\n \n\n\n\nIncentives and Bonuses!! \n\n\n\nDo you know the difference? \n\n\n\nHow to construct a plan to move your organization to better performance! \n\n\n\nIs it all about the money or payoff? \n\n\n\nHow you can afford plans to improve sales\, customer service\, production\, and goal achievement!!! \n\n\n\nImprove achievement of goals with great incentives!!!
X-ALT-DESC;FMTTYPE=text/html:<div class="OutlineElement Ltr SCX80624188" style="margin: 0px\; padding: 0px\; user-select: text\; -webkit-user-drag: none\; -webkit-tap-highlight-color: transparent\; overflow: visible\; cursor: text\; clear: both\; position: relative\; direction: ltr\; font-family: &quot\;Segoe UI&quot\;\, Tahoma\, Verdana\, sans-serif\; font-size: 8px\; background-color: rgb(255\, 255\, 255)\;">\n<p class="Paragraph SCX80624188" paraeid="{6ad7d129-0c0e-4806-9769-461a867a2a27}{134}" paraid="1978299997" style="margin: 0px\; padding: 0px\; user-select: text\; -webkit-user-drag: none\; -webkit-tap-highlight-color: transparent\; word-wrap: break-word\; vertical-align: baseline\; background-color: transparent\; color: windowtext\;"><span class="TextRun SCX80624188" lang="EN-US" style="margin: 0px\; padding: 0px\; user-select: text\; -webkit-user-drag: none\; -webkit-tap-highlight-color: transparent\; font-variant-ligatures: none !important\; font-size: 11pt\; font-family: Calibri\, sans-serif\; line-height: 19px\;" xml:lang="EN-US">Patrick J. Farrell</span><span class="EOP SCX80624188" style="margin: 0px\; padding: 0px\; user-select: text\; -webkit-user-drag: none\; -webkit-tap-highlight-color: transparent\; font-size: 11pt\; line-height: 19px\; font-family: Calibri\, sans-serif\;">&nbsp\;</span></p>\n</div>\n\n<div class="OutlineElement Ltr SCX80624188" style="margin: 0px\; padding: 0px\; user-select: text\; -webkit-user-drag: none\; -webkit-tap-highlight-color: transparent\; overflow: visible\; cursor: text\; clear: both\; position: relative\; direction: ltr\; font-family: &quot\;Segoe UI&quot\;\, Tahoma\, Verdana\, sans-serif\; font-size: 8px\; background-color: rgb(255\, 255\, 255)\;">\n<p class="Paragraph SCX80624188" paraeid="{6ad7d129-0c0e-4806-9769-461a867a2a27}{137}" paraid="1279873492" style="margin: 0px\; padding: 0px\; user-select: text\; -webkit-user-drag: none\; -webkit-tap-highlight-color: transparent\; word-wrap: break-word\; vertical-align: baseline\; background-color: transparent\; color: windowtext\;"><span class="TextRun SCX80624188" lang="EN-US" style="margin: 0px\; padding: 0px\; user-select: text\; -webkit-user-drag: none\; -webkit-tap-highlight-color: transparent\; font-variant-ligatures: none !important\; font-size: 11pt\; font-family: Calibri\, sans-serif\; line-height: 19px\;" xml:lang="EN-US">I am a business owner\, educator\, author\, and trainer in the areas of process controls\, business management\, ownership\, customer service\, technical training\, strategic planning\, and business performance.</span><span class="EOP SCX80624188" style="margin: 0px\; padding: 0px\; user-select: text\; -webkit-user-drag: none\; -webkit-tap-highlight-color: transparent\; font-size: 11pt\; line-height: 19px\; font-family: Calibri\, sans-serif\;">&nbsp\;</span></p>\n</div>\n\n<div class="OutlineElement Ltr SCX80624188" style="margin: 0px\; padding: 0px\; user-select: text\; -webkit-user-drag: none\; -webkit-tap-highlight-color: transparent\; overflow: visible\; cursor: text\; clear: both\; position: relative\; direction: ltr\; font-family: &quot\;Segoe UI&quot\;\, Tahoma\, Verdana\, sans-serif\; font-size: 8px\; background-color: rgb(255\, 255\, 255)\;">\n<p class="Paragraph SCX80624188" paraeid="{6ad7d129-0c0e-4806-9769-461a867a2a27}{140}" paraid="1720102864" style="margin: 0px\; padding: 0px\; user-select: text\; -webkit-user-drag: none\; -webkit-tap-highlight-color: transparent\; word-wrap: break-word\; vertical-align: baseline\; background-color: transparent\; color: windowtext\;"><span class="TextRun SCX80624188" lang="EN-US" style="margin: 0px\; padding: 0px\; user-select: text\; -webkit-user-drag: none\; -webkit-tap-highlight-color: transparent\; font-variant-ligatures: none !important\; font-size: 11pt\; font-family: Calibri\, sans-serif\; line-height: 19px\;" xml:lang="EN-US">Working for large and small organizations achieving Optimum PERFOMance is the key to successful organizations.</span><span class="EOP SCX80624188" style="margin: 0px\; padding: 0px\; user-select: text\; -webkit-user-drag: none\; -webkit-tap-highlight-color: transparent\; font-size: 11pt\; line-height: 19px\; font-family: Calibri\, sans-serif\;">&nbsp\;</span></p>\n</div>\n\n<div class="OutlineElement Ltr SCX80624188" style="margin: 0px\; padding: 0px\; user-select: text\; -webkit-user-drag: none\; -webkit-tap-highlight-color: transparent\; overflow: visible\; cursor: text\; clear: both\; position: relative\; direction: ltr\; font-family: &quot\;Segoe UI&quot\;\, Tahoma\, Verdana\, sans-serif\; font-size: 8px\; background-color: rgb(255\, 255\, 255)\;">\n<p class="Paragraph SCX80624188" paraeid="{6ad7d129-0c0e-4806-9769-461a867a2a27}{143}" paraid="1275925210" style="margin: 0px\; padding: 0px\; user-select: text\; -webkit-user-drag: none\; -webkit-tap-highlight-color: transparent\; word-wrap: break-word\; vertical-align: baseline\; background-color: transparent\; color: windowtext\;"><span class="TextRun SCX80624188" lang="EN-US" style="margin: 0px\; padding: 0px\; user-select: text\; -webkit-user-drag: none\; -webkit-tap-highlight-color: transparent\; font-variant-ligatures: none !important\; font-size: 11pt\; font-family: Calibri\, sans-serif\; line-height: 19px\;" xml:lang="EN-US">Let&rsquo\;s continue to develop the skills necessary to compete and be successful!!!</span><span class="EOP SCX80624188" style="margin: 0px\; padding: 0px\; user-select: text\; -webkit-user-drag: none\; -webkit-tap-highlight-color: transparent\; font-size: 11pt\; line-height: 19px\; font-family: Calibri\, sans-serif\;">&nbsp\;</span></p>\n</div>\n\n<div class="OutlineElement Ltr SCX80624188" style="margin: 0px\; padding: 0px\; user-select: text\; -webkit-user-drag: none\; -webkit-tap-highlight-color: transparent\; overflow: visible\; cursor: text\; clear: both\; position: relative\; direction: ltr\; font-family: &quot\;Segoe UI&quot\;\, Tahoma\, Verdana\, sans-serif\; font-size: 8px\; background-color: rgb(255\, 255\, 255)\;">\n<p class="Paragraph SCX80624188" paraeid="{6ad7d129-0c0e-4806-9769-461a867a2a27}{145}" paraid="1381097551" style="margin: 0px\; padding: 0px\; user-select: text\; -webkit-user-drag: none\; -webkit-tap-highlight-color: transparent\; word-wrap: break-word\; vertical-align: baseline\; background-color: transparent\; color: windowtext\;"><span class="EOP SCX80624188" style="margin: 0px\; padding: 0px\; user-select: text\; -webkit-user-drag: none\; -webkit-tap-highlight-color: transparent\; font-size: 11pt\; line-height: 19px\; font-family: Calibri\, sans-serif\;">&nbsp\;</span></p>\n</div>\n\n<div class="OutlineElement Ltr SCX80624188" style="margin: 0px\; padding: 0px\; user-select: text\; -webkit-user-drag: none\; -webkit-tap-highlight-color: transparent\; overflow: visible\; cursor: text\; clear: both\; position: relative\; direction: ltr\; font-family: &quot\;Segoe UI&quot\;\, Tahoma\, Verdana\, sans-serif\; font-size: 8px\; background-color: rgb(255\, 255\, 255)\;">\n<p class="Paragraph SCX80624188" paraeid="{6ad7d129-0c0e-4806-9769-461a867a2a27}{147}" paraid="1886584772" style="margin: 0px\; padding: 0px\; user-select: text\; -webkit-user-drag: none\; -webkit-tap-highlight-color: transparent\; word-wrap: break-word\; vertical-align: baseline\; background-color: transparent\; color: windowtext\;"><span class="EOP SCX80624188" style="margin: 0px\; padding: 0px\; user-select: text\; -webkit-user-drag: none\; -webkit-tap-highlight-color: transparent\; font-size: 11pt\; line-height: 19px\; font-family: Calibri\, sans-serif\;">&nbsp\;</span></p>\n</div>\n\n<div class="OutlineElement Ltr SCX80624188" style="margin: 0px\; padding: 0px\; user-select: text\; -webkit-user-drag: none\; -webkit-tap-highlight-color: transparent\; overflow: visible\; cursor: text\; clear: both\; position: relative\; direction: ltr\; font-family: &quot\;Segoe UI&quot\;\, Tahoma\, Verdana\, sans-serif\; font-size: 8px\; background-color: rgb(255\, 255\, 255)\;">\n<p class="Paragraph SCX80624188" paraeid="{6ad7d129-0c0e-4806-9769-461a867a2a27}{151}" paraid="204257292" style="margin: 0px\; padding: 0px\; user-select: text\; -webkit-user-drag: none\; -webkit-tap-highlight-color: transparent\; word-wrap: break-word\; vertical-align: baseline\; background-color: transparent\; color: windowtext\;"><span class="TextRun Underlined SCX80624188" lang="EN-US" style="margin: 0px\; padding: 0px\; user-select: text\; -webkit-user-drag: none\; -webkit-tap-highlight-color: transparent\; font-weight: bold\; text-decoration-line: underline\; font-size: 11pt\; font-family: Calibri\, sans-serif\; line-height: 19px\; font-variant-ligatures: none !important\;" xml:lang="EN-US"><span class="NormalTextRun SCX80624188" style="margin: 0px\; padding: 0px\; user-select: text\; -webkit-user-drag: none\; -webkit-tap-highlight-color: transparent\; background-color: inherit\;">Incentives and Bonuses!!</span></span><span class="EOP SCX80624188" style="margin: 0px\; padding: 0px\; user-select: text\; -webkit-user-drag: none\; -webkit-tap-highlight-color: transparent\; font-size: 11pt\; line-height: 19px\; font-family: Calibri\, sans-serif\;">&nbsp\;</span></p>\n</div>\n\n<div class="OutlineElement Ltr SCX80624188" style="margin: 0px\; padding: 0px\; user-select: text\; -webkit-user-drag: none\; -webkit-tap-highlight-color: transparent\; overflow: visible\; cursor: text\; clear: both\; position: relative\; direction: ltr\; font-family: &quot\;Segoe UI&quot\;\, Tahoma\, Verdana\, sans-serif\; font-size: 8px\; background-color: rgb(255\, 255\, 255)\;">\n<p class="Paragraph SCX80624188" paraeid="{6ad7d129-0c0e-4806-9769-461a867a2a27}{154}" paraid="1757118079" style="margin: 0px\; padding: 0px\; user-select: text\; -webkit-user-drag: none\; -webkit-tap-highlight-color: transparent\; word-wrap: break-word\; vertical-align: baseline\; background-color: transparent\; color: windowtext\;"><span class="TextRun SCX80624188" lang="EN-US" style="margin: 0px\; padding: 0px\; user-select: text\; -webkit-user-drag: none\; -webkit-tap-highlight-color: transparent\; font-variant-ligatures: none !important\; font-size: 11pt\; font-family: Calibri\, sans-serif\; line-height: 19px\;" xml:lang="EN-US">Do you know the difference?</span><span class="EOP SCX80624188" style="margin: 0px\; padding: 0px\; user-select: text\; -webkit-user-drag: none\; -webkit-tap-highlight-color: transparent\; font-size: 11pt\; line-height: 19px\; font-family: Calibri\, sans-serif\;">&nbsp\;</span></p>\n</div>\n\n<div class="OutlineElement Ltr SCX80624188" style="margin: 0px\; padding: 0px\; user-select: text\; -webkit-user-drag: none\; -webkit-tap-highlight-color: transparent\; overflow: visible\; cursor: text\; clear: both\; position: relative\; direction: ltr\; font-family: &quot\;Segoe UI&quot\;\, Tahoma\, Verdana\, sans-serif\; font-size: 8px\; background-color: rgb(255\, 255\, 255)\;">\n<p class="Paragraph SCX80624188" paraeid="{6ad7d129-0c0e-4806-9769-461a867a2a27}{157}" paraid="2101880417" style="margin: 0px\; padding: 0px\; user-select: text\; -webkit-user-drag: none\; -webkit-tap-highlight-color: transparent\; word-wrap: break-word\; vertical-align: baseline\; background-color: transparent\; color: windowtext\;"><span class="TextRun SCX80624188" lang="EN-US" style="margin: 0px\; padding: 0px\; user-select: text\; -webkit-user-drag: none\; -webkit-tap-highlight-color: transparent\; font-variant-ligatures: none !important\; font-size: 11pt\; font-family: Calibri\, sans-serif\; line-height: 19px\;" xml:lang="EN-US">How to construct a plan to move your organization to better performance!</span><span class="EOP SCX80624188" style="margin: 0px\; padding: 0px\; user-select: text\; -webkit-user-drag: none\; -webkit-tap-highlight-color: transparent\; font-size: 11pt\; line-height: 19px\; font-family: Calibri\, sans-serif\;">&nbsp\;</span></p>\n</div>\n\n<div class="OutlineElement Ltr SCX80624188" style="margin: 0px\; padding: 0px\; user-select: text\; -webkit-user-drag: none\; -webkit-tap-highlight-color: transparent\; overflow: visible\; cursor: text\; clear: both\; position: relative\; direction: ltr\; font-family: &quot\;Segoe UI&quot\;\, Tahoma\, Verdana\, sans-serif\; font-size: 8px\; background-color: rgb(255\, 255\, 255)\;">\n<p class="Paragraph SCX80624188" paraeid="{6ad7d129-0c0e-4806-9769-461a867a2a27}{161}" paraid="1015633693" style="margin: 0px\; padding: 0px\; user-select: text\; -webkit-user-drag: none\; -webkit-tap-highlight-color: transparent\; word-wrap: break-word\; vertical-align: baseline\; background-color: transparent\; color: windowtext\;"><span class="TextRun SCX80624188" lang="EN-US" style="margin: 0px\; padding: 0px\; user-select: text\; -webkit-user-drag: none\; -webkit-tap-highlight-color: transparent\; font-variant-ligatures: none !important\; font-size: 11pt\; font-family: Calibri\, sans-serif\; line-height: 19px\;" xml:lang="EN-US">Is it all about the money or payoff</span><span class="TextRun SCX80624188" lang="EN-US" style="margin: 0px\; padding: 0px\; user-select: text\; -webkit-user-drag: none\; -webkit-tap-highlight-color: transparent\; font-variant-ligatures: none !important\; font-size: 11pt\; font-family: Calibri\, sans-serif\; line-height: 19px\;" xml:lang="EN-US">?</span><span class="EOP SCX80624188" style="margin: 0px\; padding: 0px\; user-select: text\; -webkit-user-drag: none\; -webkit-tap-highlight-color: transparent\; font-size: 11pt\; line-height: 19px\; font-family: Calibri\, sans-serif\;">&nbsp\;</span></p>\n</div>\n\n<div class="OutlineElement Ltr SCX80624188" style="margin: 0px\; padding: 0px\; user-select: text\; -webkit-user-drag: none\; -webkit-tap-highlight-color: transparent\; overflow: visible\; cursor: text\; clear: both\; position: relative\; direction: ltr\; font-family: &quot\;Segoe UI&quot\;\, Tahoma\, Verdana\, sans-serif\; font-size: 8px\; background-color: rgb(255\, 255\, 255)\;">\n<p class="Paragraph SCX80624188" paraeid="{6ad7d129-0c0e-4806-9769-461a867a2a27}{164}" paraid="1504644974" style="margin: 0px\; padding: 0px\; user-select: text\; -webkit-user-drag: none\; -webkit-tap-highlight-color: transparent\; word-wrap: break-word\; vertical-align: baseline\; background-color: transparent\; color: windowtext\;"><span class="TextRun SCX80624188" lang="EN-US" style="margin: 0px\; padding: 0px\; user-select: text\; -webkit-user-drag: none\; -webkit-tap-highlight-color: transparent\; font-variant-ligatures: none !important\; font-size: 11pt\; font-family: Calibri\, sans-serif\; line-height: 19px\;" xml:lang="EN-US">How you can afford plans to improve sales\, customer service\, production\, and goal achievement!!!</span><span class="EOP SCX80624188" style="margin: 0px\; padding: 0px\; user-select: text\; -webkit-user-drag: none\; -webkit-tap-highlight-color: transparent\; font-size: 11pt\; line-height: 19px\; font-family: Calibri\, sans-serif\;">&nbsp\;</span></p>\n</div>\n\n<div class="OutlineElement Ltr SCX80624188" style="margin: 0px\; padding: 0px\; user-select: text\; -webkit-user-drag: none\; -webkit-tap-highlight-color: transparent\; overflow: visible\; cursor: text\; clear: both\; position: relative\; direction: ltr\; font-family: &quot\;Segoe UI&quot\;\, Tahoma\, Verdana\, sans-serif\; font-size: 8px\; background-color: rgb(255\, 255\, 255)\;">\n<p class="Paragraph SCX80624188" paraeid="{6ad7d129-0c0e-4806-9769-461a867a2a27}{168}" paraid="1437366189" style="margin: 0px\; padding: 0px\; user-select: text\; -webkit-user-drag: none\; -webkit-tap-highlight-color: transparent\; word-wrap: break-word\; vertical-align: baseline\; background-color: transparent\; color: windowtext\;"><span class="TextRun SCX80624188" lang="EN-US" style="margin: 0px\; padding: 0px\; user-select: text\; -webkit-user-drag: none\; -webkit-tap-highlight-color: transparent\; font-variant-ligatures: none !important\; font-size: 11pt\; font-family: Calibri\, sans-serif\; line-height: 19px\;" xml:lang="EN-US">Improve achievement of&nbsp\;</span><span class="TextRun SCX80624188" lang="EN-US" style="margin: 0px\; padding: 0px\; user-select: text\; -webkit-user-drag: none\; -webkit-tap-highlight-color: transparent\; font-variant-ligatures: none !important\; font-size: 11pt\; font-family: Calibri\, sans-serif\; line-height: 19px\;" xml:lang="EN-US">goals with great incentives!!!</span><span class="EOP SCX80624188" style="margin: 0px\; padding: 0px\; user-select: text\; -webkit-user-drag: none\; -webkit-tap-highlight-color: transparent\; font-size: 11pt\; line-height: 19px\; font-family: Calibri\, sans-serif\;">&nbsp\;</span></p>\n</div>\n
LOCATION:Chamber of Commerce Building 210 W Truman Road Independence\, Mo 64050
UID:e.2043.4297
SEQUENCE:3
DTSTAMP:20260424T165633Z
URL:https://business.ichamber.biz/events/details/speaker-series-pat-farrell-04-27-2017-4297
END:VEVENT

END:VCALENDAR
