BEGIN:VCALENDAR
VERSION:2.0
PRODID:-//ChamberMaster//Event Calendar 2.0//EN
METHOD:PUBLISH
X-PUBLISHED-TTL:P3D
REFRESH-INTERVAL:P3D
CALSCALE:GREGORIAN
BEGIN:VEVENT
DTSTART:20170928T170000Z
DTEND:20170928T180000Z
X-MICROSOFT-CDO-ALLDAYEVENT:FALSE
SUMMARY:Speaker Series: Supersize Your Social Media Results
DESCRIPTION:Paige Cahill is a national digital marketing speaker\, trainer\, and consultant. Paige coaches and connects you to effective marketing tips\, strategies\, and tools to help make your marketing simple and successful.  As a national speaker\, Paige and her local marketing expert team educates and empowers over 10\,000 small businesses and nonprofits annually. Get ready to walk-away with affordable but simple marketing strategies that you can implement today in order to drive stellar marketing results for your organization immediately! \n\n\n\n\n\nDon?t miss this engaging and empowering presentation!\n\n	Learn 15 social media tips and best practices to help optimize your social media results.\n	Business owners or Nonprofit marketing minds want to know:  where\, what\, when and how often should I post.\n	Crafting up content for your social media is difficult so let us provide you with  tips\, best practices\, resources\, and tools to help you make planning and creating your content easier.\n	Walk-Away with 5 cool tools that can help make your social media simple and successful. \n	Metrics Matter. If you are not measuring your marketing activities how do you know what is working and not. Learn metrics that can help you maximize your social results.
X-ALT-DESC;FMTTYPE=text/html:<span style="font-size:14px\;"><span style="font-family:arial\;"><span style="background-image:initial\;background-position:initial\;background-size:initial\;background-repeat:initial\;background-attachment:initial\;background-origin:initial\;background-clip:initial\;"><span style="color:black\;">Paige Cahill is a national digital marketing speaker\, trainer\, and consultant. Paige coaches and connects you to effective marketing tips\, strategies\, and tools to help make your marketing simple and successful.&nbsp\; As a national speaker\, Paige and her local marketing expert team educates and empowers over 10\,000 small businesses and nonprofits annually. Get ready to walk-away with affordable but simple marketing strategies that you can implement today in order to drive stellar marketing results for your organization immediately!&nbsp\;</span></span><br />\n<br />\n<br />\n<span style="background-image:initial\;background-position:initial\;background-size:initial\;background-repeat:initial\;background-attachment:initial\;background-origin:initial\;background-clip:initial\;"><span style="color:black\;">Don?t miss this engaging and empowering presentation!</span></span></span></span>\n<ol>\n	<li style="color:black\;margin-left:0in\;background-image:initial\;background-position:initial\;background-size:initial\;background-repeat:initial\;background-attachment:initial\;background-origin:initial\;background-clip:initial\;vertical-align:baseline\;"><span style="font-size:14px\;"><span style="font-family:arial\;"><span style="background-image:initial\;background-position:initial\;background-size:initial\;background-repeat:initial\;background-attachment:initial\;background-origin:initial\;background-clip:initial\;">Learn 15 social media tips and best practices to help optimize your social media results.</span></span></span></li>\n	<li style="color:black\;margin-left:0in\;background-image:initial\;background-position:initial\;background-size:initial\;background-repeat:initial\;background-attachment:initial\;background-origin:initial\;background-clip:initial\;vertical-align:baseline\;"><span style="font-size:14px\;"><span style="font-family:arial\;"><span style="background-image:initial\;background-position:initial\;background-size:initial\;background-repeat:initial\;background-attachment:initial\;background-origin:initial\;background-clip:initial\;">Business owners or Nonprofit marketing minds want to know: &nbsp\;where\, what\, when and how often should I post.</span></span></span></li>\n	<li style="color:black\;margin-left:0in\;background-image:initial\;background-position:initial\;background-size:initial\;background-repeat:initial\;background-attachment:initial\;background-origin:initial\;background-clip:initial\;vertical-align:baseline\;"><span style="font-size:14px\;"><span style="font-family:arial\;"><span style="background-image:initial\;background-position:initial\;background-size:initial\;background-repeat:initial\;background-attachment:initial\;background-origin:initial\;background-clip:initial\;">Crafting up content for your social media is difficult so let us provide you with &nbsp\;tips\, best practices\, resources\, and tools to help you make planning and creating your content easier.</span></span></span></li>\n	<li style="color:black\;margin-left:0in\;background-image:initial\;background-position:initial\;background-size:initial\;background-repeat:initial\;background-attachment:initial\;background-origin:initial\;background-clip:initial\;vertical-align:baseline\;"><span style="font-size:14px\;"><span style="font-family:arial\;"><span style="background-image:initial\;background-position:initial\;background-size:initial\;background-repeat:initial\;background-attachment:initial\;background-origin:initial\;background-clip:initial\;">Walk-Away with 5 cool tools that can help make your social media simple and successful. </span></span></span></li>\n	<li style="color:black\;margin-left:0in\;background-image:initial\;background-position:initial\;background-size:initial\;background-repeat:initial\;background-attachment:initial\;background-origin:initial\;background-clip:initial\;vertical-align:baseline\;"><span style="font-size:14px\;"><span style="font-family:arial\;"><span style="background-image:initial\;background-position:initial\;background-size:initial\;background-repeat:initial\;background-attachment:initial\;background-origin:initial\;background-clip:initial\;">Metrics Matter. If you are not measuring your marketing activities how do you know what is working and not. Learn metrics that can help you maximize your social results.</span></span></span></li>\n</ol>\n<span style="font-size:14px\;"><span style="font-family:arial\;">&nbsp\;</span></span>
LOCATION:Chamber of Commerce Building 210 W. Truman Road Independence\, MO 64050
UID:e.2043.4961
SEQUENCE:3
DTSTAMP:20260424T101946Z
URL:https://business.ichamber.biz/events/details/speaker-series-supersize-your-social-media-results-09-28-2017-4961
END:VEVENT

END:VCALENDAR
