BEGIN:VCALENDAR
VERSION:2.0
PRODID:-//ChamberMaster//Event Calendar 2.0//EN
METHOD:PUBLISH
X-PUBLISHED-TTL:P3D
REFRESH-INTERVAL:P3D
CALSCALE:GREGORIAN
BEGIN:VEVENT
DTSTART:20170615T170000Z
DTEND:20170615T180000Z
X-MICROSOFT-CDO-ALLDAYEVENT:FALSE
SUMMARY:Speaker Series - Tips for Business Success
DESCRIPTION:Speaker Series - Steve Sturm\, Vice President of Commercial Lending for First National Bank of Omaha. NOTE: This is a reschedule from June 29th.\n\n\n\nSteve will share with us tips for business success and how knowing the numbers can help you grow. Are you running your business to make a profit\, to be bankable\, or to avoid paying taxes? What numbers are good to watch and how they can help you. Steve will also share how to utilize your financial statement to be more successful\, what to look for and what to look at.
X-ALT-DESC;FMTTYPE=text/html:<span style="font-size:14px\;"><span style="font-family:arial\;">Speaker Series - Steve Sturm\, Vice President of Commercial Lending for First National Bank of Omaha. <span style="color:#FF0000\;">NOTE: This is a reschedule from June 29th.</span><br />\n<br />\nSteve will share with us tips for business success and how knowing the numbers can help you grow. Are you running your business to make a profit\, to be bankable\, or to avoid paying taxes? What numbers are good to watch and how they can help you. Steve will also share how to utilize your financial statement to be more successful\, what to look for and what to look at. &nbsp\;</span></span><br />\n&nbsp\;
LOCATION:Independence Chamber of Commerce Building 210 W Truman Road Independence\, MO 64050
UID:e.2043.4915
SEQUENCE:3
DTSTAMP:20260424T141500Z
URL:https://business.ichamber.biz/events/details/speaker-series-tips-for-business-success-06-15-2017-4915
END:VEVENT

END:VCALENDAR
