BEGIN:VCALENDAR
VERSION:2.0
PRODID:-//ChamberMaster//Event Calendar 2.0//EN
METHOD:PUBLISH
X-PUBLISHED-TTL:P3D
REFRESH-INTERVAL:P3D
CALSCALE:GREGORIAN
BEGIN:VEVENT
DTSTART:20171129T180000Z
DTEND:20171129T190000Z
X-MICROSOFT-CDO-ALLDAYEVENT:FALSE
SUMMARY:Speaker Series: Top 10 Human Resource-Related Issues Experienced by our Paychex Clients
DESCRIPTION:We hope you can join us for this month's Speaker Series with Wayne Cobb with Paychex where we will be learning the Top 10 Human Resource-related issues experienced by Paychex clients.\n\n\n\n*Lunch provided
X-ALT-DESC;FMTTYPE=text/html:<span style="font-size:14px\;">We hope you can join us for this month&#39\;s Speaker Series with Wayne Cobb with Paychex&nbsp\;where we will be learning the&nbsp\;Top 10 Human Resource-related issues experienced by Paychex clients.<br />\n<br />\n*Lunch provided&nbsp\;</span><br />\n&nbsp\;
LOCATION:Independence Chamber of Commerce Building 210 W Truman Road Independence\, MO 64050
UID:e.2043.4962
SEQUENCE:3
DTSTAMP:20260424T070314Z
URL:https://business.ichamber.biz/events/details/speaker-series-top-10-human-resource-related-issues-experienced-by-our-paychex-clients-11-29-2017-4962
END:VEVENT

END:VCALENDAR
