BEGIN:VCALENDAR
VERSION:2.0
PRODID:-//ChamberMaster//Event Calendar 2.0//EN
METHOD:PUBLISH
X-PUBLISHED-TTL:P3D
REFRESH-INTERVAL:P3D
CALSCALE:GREGORIAN
BEGIN:VEVENT
DTSTART:20170824T170000Z
DTEND:20170824T180000Z
X-MICROSOFT-CDO-ALLDAYEVENT:FALSE
SUMMARY:Speaker Series: Top 3 Keys to Driving Forward Motion in Your Business
DESCRIPTION:Join Debra Kunz\, Founder of the Center for Deliberate Growth  to gain new perspectives that can help you move yourself and your business forward. Debra will share the top three keys to creating intentional actions that will advance your business outcomes.\n\n\n\nAre you feeling stuck in place and need new ideas to move your business forward? Whether you have an established business or are just starting out\, the comfort of what you?ve been doing is one of the biggest obstacles to immediate progress. Another obstacle is all the daily distractions that keep you plodding along and absorbing your time\, while interfering with achieving business growth.\n\n\n\nwww.CenterForDeliberateGrowth.com
X-ALT-DESC;FMTTYPE=text/html:<span style="border: 1pt none windowtext\; padding: 0in\;"><span style="font-family: tahoma\, sans-serif\;">Join Debra&nbsp\;Kunz\, Founder of the Center for Deliberate Growth</span></span><span style="font-family:arial\;"><span style="font-size:14px\;">&reg\;&nbsp\;</span></span><span style="border: 1pt none windowtext\; padding: 0in\;"><span style="font-family: tahoma\, sans-serif\;">to gain new perspectives that can help you move yourself and your business forward. Debra will share the top three keys to creating intentional actions that will advance your business outcomes.</span></span><br />\n<br />\n<span style="font-family:tahoma\,sans-serif\;">Are you feeling stuck in place and need new ideas to move your business forward? Whether you have an established business or are just starting out\, the comfort of what you?ve been doing is one of the biggest obstacles to immediate progress. Another obstacle is all the daily distractions that keep you plodding along and absorbing your time\, while interfering with achieving business growth.<br />\n<br />\n<span style="font-size:11.0pt\;"><a href="http://www.CenterForDeliberateGrowth.com">www.CenterForDeliberateGrowth.com</a></span></span><br />\n&nbsp\;<br />\n<br />\n<br />\n&nbsp\;
LOCATION:Independence Chamber of Commerce Building 210 W Truman Road Independence\, MO 64050
UID:e.2043.4916
SEQUENCE:3
DTSTAMP:20260424T113605Z
URL:https://business.ichamber.biz/events/details/speaker-series-top-3-keys-to-driving-forward-motion-in-your-business-08-24-2017-4916
END:VEVENT

END:VCALENDAR
