BEGIN:VCALENDAR
VERSION:2.0
PRODID:-//ChamberMaster//Event Calendar 2.0//EN
METHOD:PUBLISH
X-PUBLISHED-TTL:P3D
REFRESH-INTERVAL:P3D
CALSCALE:GREGORIAN
BEGIN:VEVENT
DTSTART:20160825T203000Z
DTEND:20160825T213000Z
X-MICROSOFT-CDO-ALLDAYEVENT:FALSE
SUMMARY:Speed Leads!!
DESCRIPTION:Speed Networking brings together business people from all different business areas for an active and fun exchange of information.
X-ALT-DESC;FMTTYPE=text/html:<span style="color: rgb(51\, 51\, 51)\; font-family: sans-serif\, Arial\, Verdana\, &quot\;Trebuchet MS&quot\;\; font-size: 13px\; line-height: 20.8px\; background-color: rgb(255\, 255\, 255)\;">Speed Networking brings together business people from all different business areas for an active and fun exchange of information.&nbsp\;</span>
LOCATION:Bass Pro 18001 Bass Pro Drive Independence\, MO 64055
UID:e.2043.3543
SEQUENCE:3
DTSTAMP:20260425T025105Z
URL:https://business.ichamber.biz/events/details/speed-leads-08-25-2016-3543
END:VEVENT

END:VCALENDAR
