BEGIN:VCALENDAR
VERSION:2.0
PRODID:-//ChamberMaster//Event Calendar 2.0//EN
METHOD:PUBLISH
X-PUBLISHED-TTL:P3D
REFRESH-INTERVAL:P3D
CALSCALE:GREGORIAN
BEGIN:VEVENT
DTSTART:20170829T203000Z
DTEND:20170829T220000Z
X-MICROSOFT-CDO-ALLDAYEVENT:FALSE
SUMMARY:Speed Leads
DESCRIPTION:Speed Networking brings together business people from all different business areas for an active and fun exchange of information. \n\n\n\nPreparation for Speed Leads\n\n	Practice a 90-second statement that includes your name\, title or occupation\, a little about what your business does and what you are looking for.\n	Make sure you have a supply of business cards ready.\n	Assemble brochures or other type of handout\, if applicable.\n	Bring a pen\, notepad\, and your appointment calendar with you.\n	Remember that you have a few seconds to make a positive first impression.\n\n \n\nDuring the Event\n\n\n	First of all\, have fun. The fast pace of this kind of event contributes to a high level of energy in the room.\n	Three minutes are allowed for each round\; Each person will get 90 seconds per round.\n	As you meet each person\, shake hands and exchange names and business cards.\n	The first person introduces themselves and their purpose\, and a very brief conversation takes place. Then switch to the next person.\n	Take notes on the back of your partner's business card. This may include notes on how they look or what they are wearing to help you remember them.\n	Suggest a next step\, if appropriate. You will not have time to schedule a phone call or meeting\, so follow up the next day will be important.\n	Above all\, respect the process. At the signal\, end your conversation immediately and move\, or allow the other person to move\, to next person. You can always continue conversations later.
X-ALT-DESC;FMTTYPE=text/html:<span style="font-size:14px\;"><span style="color: rgb(51\, 51\, 51)\; font-family: sans-serif\, Arial\, Verdana\, &quot\;Trebuchet MS&quot\;\; line-height: 20.8px\; background-color: rgb(255\, 255\, 255)\;">Speed Networking brings together business people from all different business areas for an active and fun exchange of information.&nbsp\;</span></span><br />\n<br />\n<span style="font-size:12px\;"><strong>Preparation for Speed Leads</strong></span>\n<ul>\n	<li><span style="font-size:12px\;">Practice a 90-second statement that includes your name\, title or occupation\, a little about what your business does and what you are looking for.</span></li>\n	<li><span style="font-size:12px\;">Make sure you have a supply of business cards ready.</span></li>\n	<li><span style="font-size:12px\;">Assemble brochures or other type of handout\, if applicable.</span></li>\n	<li><span style="font-size:12px\;">Bring a pen\, notepad\, and your appointment calendar with you.</span></li>\n	<li><span style="font-size:12px\;">Remember that you have a few seconds to make a positive first impression.</span></li>\n</ul>\n&nbsp\;<br />\n<span style="font-size:12px\;"><strong>During the Event</strong></span>\n\n<ul>\n	<li><span style="font-size:12px\;">First of all\, have fun. The fast pace of this kind of event contributes to a high level of energy in the room.</span></li>\n	<li><span style="font-size:12px\;">Three minutes are allowed for each round\; Each person will get 90 seconds per round.</span></li>\n	<li><span style="font-size:12px\;">As you meet each person\, shake hands and exchange names and business cards.</span></li>\n	<li><span style="font-size:12px\;">The first person introduces themselves and their purpose\, and a very brief conversation takes place. Then switch to the next person.</span></li>\n	<li><span style="font-size:12px\;">Take notes on the back of your partner&rsquo\;s business card. This may include notes on how they look or what they are wearing to help you remember them.</span></li>\n	<li><span style="font-size:12px\;">Suggest a next step\, if appropriate. You will not have time to schedule a phone call or meeting\, so follow up the next day will be important.</span></li>\n	<li><span style="font-size:12px\;">Above all\, respect the process. At the signal\, end your conversation immediately and move\, or allow the other person to move\, to next person. You can always continue conversations later.</span></li>\n</ul>\n
LOCATION:Bass Pro 18001 Bass Pro Dr Independence MO 64055
UID:e.2043.4994
SEQUENCE:3
DTSTAMP:20260422T083245Z
URL:https://business.ichamber.biz/events/details/speed-leads-08-29-2017-4994
END:VEVENT

END:VCALENDAR
