BEGIN:VCALENDAR
VERSION:2.0
PRODID:-//ChamberMaster//Event Calendar 2.0//EN
METHOD:PUBLISH
X-PUBLISHED-TTL:P3D
REFRESH-INTERVAL:P3D
CALSCALE:GREGORIAN
BEGIN:VEVENT
DTSTART:20191011T233000Z
DTEND:20191012T030000Z
X-MICROSOFT-CDO-ALLDAYEVENT:FALSE
SUMMARY:Spirits and Spirits: Hosted by the YIPs
DESCRIPTION:In the Spirit of Halloween\, the Young Independence Professionals invite you to join them for a night of Spirits and Spirits! We will meet on the square at 6:30 at Courthouse Exchange for dinner\, drinks and networking (then if we have time\, hit up 3 Trails Brewing too!)\, then at 8 we are doing a haunted tour of the 1859 Jail and Marshal's home and the whole Independence Square\, courtesy of Jackson County Historical Society\, Dusk 2 Dawn Paranormal\, and Pioneer Trails Adventures!
X-ALT-DESC;FMTTYPE=text/html:In the Spirit of Halloween\, the Young Independence Professionals invite you to join them for a night of Spirits and Spirits! We will meet on the square at 6:30 at Courthouse Exchange for dinner\, drinks and networking (then if we have time\, hit up 3 Trails Brewing too!)\, then at 8 we are doing a haunted tour of the 1859 Jail and Marshal&#39\;s home and the whole Independence Square\, courtesy of Jackson County Historical Society\, Dusk 2 Dawn Paranormal\, and Pioneer Trails Adventures!
LOCATION:The Independence Square Courthouse Exchange: 113 W Lexington Ave\, Independence\, MO 64050 3 Trails Brewing: 111 N Main St\, Independence\, MO 64050 1859 Jail and Marshal's Home: 217 N Main St\, Independence\, MO 64050
UID:e.2043.11584
SEQUENCE:3
DTSTAMP:20260425T040130Z
URL:https://business.ichamber.biz/events/details/spirits-and-spirits-hosted-by-the-yips-11584
END:VEVENT

END:VCALENDAR
