BEGIN:VCALENDAR
VERSION:2.0
PRODID:-//ChamberMaster//Event Calendar 2.0//EN
METHOD:PUBLISH
X-PUBLISHED-TTL:P3D
REFRESH-INTERVAL:P3D
CALSCALE:GREGORIAN
BEGIN:VEVENT
DTSTART:20190621T230000Z
DTEND:20190622T030000Z
X-MICROSOFT-CDO-ALLDAYEVENT:FALSE
SUMMARY:Summer Concert Series
DESCRIPTION:Listen to the 2nd summer concert series of the season at the new Independence Uptown Market on Friday\, June 21st\, 2019! Three Infinity featuring Julia Reynolds will perform live at 7:30 PM with the pre-show beginning at 6:30 PM featuring musician\, Sequoia Newland.\n\n\n\nThis is a new event is brought to you by the City of Independence and the Independence Chamber of Commerce. The concert series will lead up to the SantaCaliGon Days Festival that will take place on Labor Day Weekend!\n\n\n\nAdmission is FREE and open to the public. Food and drink will be offered for sale inside the venue. Lawn chairs are welcomed.\n\n\n\nSUMMER CONCERT SERIES DATES:\n\nFriday\, May 10th - Brad Cunningham Band\n\nFriday\, June 21st - Three Infinity featuring Julia Reynolds \n\nFriday\, July 12th - Bob & Una Walkenhorst\n\nFriday\, August 9th - Cadillac Flamb  \n\n\n\nPrepare for a good time and make new friends in Independence!
X-ALT-DESC;FMTTYPE=text/html:<span style="color: rgb(29\, 33\, 41)\; font-family: Helvetica\, Arial\, sans-serif\; font-size: 14px\; white-space: pre-wrap\;">Listen to the 2nd summer concert series of the season at the new Independence Uptown Market on Friday\, June 21st\, 2019! Three Infinity featuring Julia Reynolds will perform live at 7:30 PM with the pre-show beginning at 6:30 PM featuring musician\, Sequoia Newland.</span><br style="color: rgb(29\, 33\, 41)\; font-family: Helvetica\, Arial\, sans-serif\; font-size: 14px\; white-space: pre-wrap\;" />\n<br style="color: rgb(29\, 33\, 41)\; font-family: Helvetica\, Arial\, sans-serif\; font-size: 14px\; white-space: pre-wrap\;" />\n<span style="color: rgb(29\, 33\, 41)\; font-family: Helvetica\, Arial\, sans-serif\; font-size: 14px\; white-space: pre-wrap\;">This is a new event is brought to you by the City of Independence and the Independence Chamber of Commerce. The concert series will lead up to the SantaCaliGon Days Festival that will take place on Labor Day Weekend!</span><br style="color: rgb(29\, 33\, 41)\; font-family: Helvetica\, Arial\, sans-serif\; font-size: 14px\; white-space: pre-wrap\;" />\n<br style="color: rgb(29\, 33\, 41)\; font-family: Helvetica\, Arial\, sans-serif\; font-size: 14px\; white-space: pre-wrap\;" />\n<span style="color: rgb(29\, 33\, 41)\; font-family: Helvetica\, Arial\, sans-serif\; font-size: 14px\; white-space: pre-wrap\;">Admission is FREE and open to the public. Food and drink will be offered for sale inside the venue. Lawn chairs are welcomed.</span><br style="color: rgb(29\, 33\, 41)\; font-family: Helvetica\, Arial\, sans-serif\; font-size: 14px\; white-space: pre-wrap\;" />\n<br style="color: rgb(29\, 33\, 41)\; font-family: Helvetica\, Arial\, sans-serif\; font-size: 14px\; white-space: pre-wrap\;" />\n<span style="color: rgb(29\, 33\, 41)\; font-family: Helvetica\, Arial\, sans-serif\; font-size: 14px\; white-space: pre-wrap\;">SUMMER CONCERT SERIES DATES:</span><br style="color: rgb(29\, 33\, 41)\; font-family: Helvetica\, Arial\, sans-serif\; font-size: 14px\; white-space: pre-wrap\;" />\n<span style="color: rgb(29\, 33\, 41)\; font-family: Helvetica\, Arial\, sans-serif\; font-size: 14px\; white-space: pre-wrap\;">Friday\, May 10th - Brad Cunningham Band</span><br style="color: rgb(29\, 33\, 41)\; font-family: Helvetica\, Arial\, sans-serif\; font-size: 14px\; white-space: pre-wrap\;" />\n<span style="color: rgb(29\, 33\, 41)\; font-family: Helvetica\, Arial\, sans-serif\; font-size: 14px\; white-space: pre-wrap\;">Friday\, June 21st - Three Infinity featuring Julia Reynolds </span><br style="color: rgb(29\, 33\, 41)\; font-family: Helvetica\, Arial\, sans-serif\; font-size: 14px\; white-space: pre-wrap\;" />\n<span style="color: rgb(29\, 33\, 41)\; font-family: Helvetica\, Arial\, sans-serif\; font-size: 14px\; white-space: pre-wrap\;">Friday\, July 12th - Bob &amp\; Una Walkenhorst</span><br style="color: rgb(29\, 33\, 41)\; font-family: Helvetica\, Arial\, sans-serif\; font-size: 14px\; white-space: pre-wrap\;" />\n<span style="color: rgb(29\, 33\, 41)\; font-family: Helvetica\, Arial\, sans-serif\; font-size: 14px\; white-space: pre-wrap\;">Friday\, August 9th - Cadillac Flamb&eacute\; </span><br style="color: rgb(29\, 33\, 41)\; font-family: Helvetica\, Arial\, sans-serif\; font-size: 14px\; white-space: pre-wrap\;" />\n<br style="color: rgb(29\, 33\, 41)\; font-family: Helvetica\, Arial\, sans-serif\; font-size: 14px\; white-space: pre-wrap\;" />\n<span style="color: rgb(29\, 33\, 41)\; font-family: Helvetica\, Arial\, sans-serif\; font-size: 14px\; white-space: pre-wrap\;">Prepare for a good time and make new friends in Independence!</span>
LOCATION:
UID:e.2043.9059
SEQUENCE:3
DTSTAMP:20260424T235340Z
URL:https://business.ichamber.biz/events/details/summer-concert-series-06-14-2019-9059
END:VEVENT

END:VCALENDAR
