BEGIN:VCALENDAR
VERSION:2.0
PRODID:-//ChamberMaster//Event Calendar 2.0//EN
METHOD:PUBLISH
X-PUBLISHED-TTL:P3D
REFRESH-INTERVAL:P3D
CALSCALE:GREGORIAN
BEGIN:VEVENT
DTSTART:20190712T233000Z
DTEND:20190713T030000Z
X-MICROSOFT-CDO-ALLDAYEVENT:FALSE
SUMMARY:Summer Concert Series
DESCRIPTION:Listen to the summer concert series at the new Independence Uptown Market on Friday\, July 12th\, 2019! Bob & Una Walkenhorst (Rainmakers) will perform live at 7:30 p.m. with the pre-show featuring Alex Sons beginning at 6:30 PM. \n\n\n\nThe Summer Concert Series is presented by the City of Independence and the Independence Chamber of Commerce. The concert series will lead up to the SantaCaliGon Days Festival on Labor Day Weekend!\n\n\n\nSUMMER CONCERT SERIES DATES:\n\nFriday\, July 12th - Bob & Una Walkenhorst\n\nFriday\, August 9th - Cadillac Flamb  \n\n\n\nAdmission is free and open to the public. Food and drink will be offered for sale inside the venue. Lawn chairs are welcomed.\n\n\n\nPrepare for a good time and make new friends in Independence!
X-ALT-DESC;FMTTYPE=text/html:<span style="color: rgb(29\, 33\, 41)\; font-family: Helvetica\, Arial\, sans-serif\; font-size: 14px\; white-space: pre-wrap\;">Listen to the summer concert series at the new Independence Uptown Market on Friday\, July 12th\, 2019! Bob &amp\; Una Walkenhorst (Rainmakers) will perform live at 7:30 p.m. with the pre-show featuring Alex Sons beginning at 6:30 PM. </span><br style="color: rgb(29\, 33\, 41)\; font-family: Helvetica\, Arial\, sans-serif\; font-size: 14px\; white-space: pre-wrap\;" />\n<br style="color: rgb(29\, 33\, 41)\; font-family: Helvetica\, Arial\, sans-serif\; font-size: 14px\; white-space: pre-wrap\;" />\n<span style="color: rgb(29\, 33\, 41)\; font-family: Helvetica\, Arial\, sans-serif\; font-size: 14px\; white-space: pre-wrap\;">The Summer Concert Series is presented by the City of Independence and the Independence Chamber of Commerce. The concert series will lead up to the SantaCaliGon Days Festival on Labor Day Weekend!</span><br style="color: rgb(29\, 33\, 41)\; font-family: Helvetica\, Arial\, sans-serif\; font-size: 14px\; white-space: pre-wrap\;" />\n<br style="color: rgb(29\, 33\, 41)\; font-family: Helvetica\, Arial\, sans-serif\; font-size: 14px\; white-space: pre-wrap\;" />\n<strong><span style="color: rgb(29\, 33\, 41)\; font-family: Helvetica\, Arial\, sans-serif\; font-size: 14px\; white-space: pre-wrap\;">SUMMER CONCERT SERIES DATES:</span></strong><br style="color: rgb(29\, 33\, 41)\; font-family: Helvetica\, Arial\, sans-serif\; font-size: 14px\; white-space: pre-wrap\;" />\n<span style="color: rgb(29\, 33\, 41)\; font-family: Helvetica\, Arial\, sans-serif\; font-size: 14px\; white-space: pre-wrap\;">Friday\, July 12th - Bob &amp\; Una Walkenhorst</span><br style="color: rgb(29\, 33\, 41)\; font-family: Helvetica\, Arial\, sans-serif\; font-size: 14px\; white-space: pre-wrap\;" />\n<span style="color: rgb(29\, 33\, 41)\; font-family: Helvetica\, Arial\, sans-serif\; font-size: 14px\; white-space: pre-wrap\;">Friday\, August 9th - Cadillac Flamb&eacute\; </span><br style="color: rgb(29\, 33\, 41)\; font-family: Helvetica\, Arial\, sans-serif\; font-size: 14px\; white-space: pre-wrap\;" />\n<br style="color: rgb(29\, 33\, 41)\; font-family: Helvetica\, Arial\, sans-serif\; font-size: 14px\; white-space: pre-wrap\;" />\n<span style="color: rgb(29\, 33\, 41)\; font-family: Helvetica\, Arial\, sans-serif\; font-size: 14px\; white-space: pre-wrap\;">Admission is free and open to the public. Food and drink will be offered for sale inside the venue. Lawn chairs are welcomed.</span><br style="color: rgb(29\, 33\, 41)\; font-family: Helvetica\, Arial\, sans-serif\; font-size: 14px\; white-space: pre-wrap\;" />\n<br style="color: rgb(29\, 33\, 41)\; font-family: Helvetica\, Arial\, sans-serif\; font-size: 14px\; white-space: pre-wrap\;" />\n<span style="color: rgb(29\, 33\, 41)\; font-family: Helvetica\, Arial\, sans-serif\; font-size: 14px\; white-space: pre-wrap\;">Prepare for a good time and make new friends in Independence!</span>
LOCATION:Independence Uptown Market 211 W. Truman Road Independence\, MO 64050
UID:e.2043.9060
SEQUENCE:3
DTSTAMP:20260425T010747Z
URL:https://business.ichamber.biz/events/details/summer-concert-series-07-12-2019-9060
END:VEVENT

END:VCALENDAR
