BEGIN:VCALENDAR
VERSION:2.0
PRODID:-//ChamberMaster//Event Calendar 2.0//EN
METHOD:PUBLISH
X-PUBLISHED-TTL:P3D
REFRESH-INTERVAL:P3D
CALSCALE:GREGORIAN
BEGIN:VEVENT
DTSTART:20190809T233000Z
DTEND:20190810T030000Z
X-MICROSOFT-CDO-ALLDAYEVENT:FALSE
SUMMARY:Summer Concert Series
DESCRIPTION:The last Summer Concert Series of the year! Listen to a live performance by Carl Worden Band at 6:30 p.m.\, followed by Cadillac Flamb  at the new Independence Uptown Market on Friday\, August 9th\, 2019.\n\n\n\nThe Summer Concert Series is presented by the City of Independence and the Independence Chamber of Commerce. The concert series will lead up to the SantaCaliGon Days Festival on Labor Day Weekend! To view the complete entertainment schedule for the festival please visit www.SantaCaliGon.com.\n\n\n\nAdmission is free and open to the public. Food and drink will be offered for sale inside the venue. Lawn chairs are welcomed.\n\n\n\nPrepare for a good time and make new friends in Independence!
X-ALT-DESC;FMTTYPE=text/html:<span style="color: rgb(29\, 33\, 41)\; font-family: Helvetica\, Arial\, sans-serif\; font-size: 14px\; white-space: pre-wrap\;">The last Summer Concert Series of the year! Listen to a live performance by Carl Worden Band at 6:30 p.m.\, followed by Cadillac Flamb&eacute\; at the new Independence Uptown Market on Friday\, August 9th\, 2019.</span><br style="color: rgb(29\, 33\, 41)\; font-family: Helvetica\, Arial\, sans-serif\; font-size: 14px\; white-space: pre-wrap\;" />\n<br style="color: rgb(29\, 33\, 41)\; font-family: Helvetica\, Arial\, sans-serif\; font-size: 14px\; white-space: pre-wrap\;" />\n<span style="color: rgb(29\, 33\, 41)\; font-family: Helvetica\, Arial\, sans-serif\; font-size: 14px\; white-space: pre-wrap\;">The Summer Concert Series is presented by the City of Independence and the Independence Chamber of Commerce. The concert series will lead up to the SantaCaliGon Days Festival on Labor Day Weekend! To view the complete entertainment schedule for the festival please visit </span><a data-lynx-mode="hover" href="https://l.facebook.com/l.php?u=http%3A%2F%2Fwww.SantaCaliGon.com%2F%3Ffbclid%3DIwAR0gZ0gC6Ixfqs-j1FFci9cOqkE_Tz1VAVmv1lHC_dAGnf2hsbbtas75ROs&amp\;h=AT1MnCHuIXoEMiTk_BdGvdq_1bRpnpFbaEcs0Tny2xBREuYP86oCzmXLCOFI7a8dNJnI3kAPMqOoA9R3hsz6Oc0xkeq034Mb5cEBVGen9CdbyUqo_8y1j0ZYtktVzUWboDJ7" rel="nofollow noopener" style="color: rgb(56\, 88\, 152)\; cursor: pointer\; text-decoration-line: none\; font-family: Helvetica\, Arial\, sans-serif\; font-size: 14px\; white-space: pre-wrap\;" target="_blank">www.SantaCaliGon.com.</a><br style="color: rgb(29\, 33\, 41)\; font-family: Helvetica\, Arial\, sans-serif\; font-size: 14px\; white-space: pre-wrap\;" />\n<br style="color: rgb(29\, 33\, 41)\; font-family: Helvetica\, Arial\, sans-serif\; font-size: 14px\; white-space: pre-wrap\;" />\n<span style="color: rgb(29\, 33\, 41)\; font-family: Helvetica\, Arial\, sans-serif\; font-size: 14px\; white-space: pre-wrap\;">Admission is free and open to the public. Food and drink will be offered for sale inside the venue. Lawn chairs are welcomed.</span><br style="color: rgb(29\, 33\, 41)\; font-family: Helvetica\, Arial\, sans-serif\; font-size: 14px\; white-space: pre-wrap\;" />\n<br style="color: rgb(29\, 33\, 41)\; font-family: Helvetica\, Arial\, sans-serif\; font-size: 14px\; white-space: pre-wrap\;" />\n<span style="color: rgb(29\, 33\, 41)\; font-family: Helvetica\, Arial\, sans-serif\; font-size: 14px\; white-space: pre-wrap\;">Prepare for a good time and make new friends in Independence!</span>
LOCATION:Independence Uptown Market 211 W. Truman Road Independence\, MO 64050
UID:e.2043.9061
SEQUENCE:3
DTSTAMP:20260425T021824Z
URL:https://business.ichamber.biz/events/details/summer-concert-series-08-09-2019-9061
END:VEVENT

END:VCALENDAR
