BEGIN:VCALENDAR
VERSION:2.0
PRODID:-//ChamberMaster//Event Calendar 2.0//EN
METHOD:PUBLISH
X-PUBLISHED-TTL:P3D
REFRESH-INTERVAL:P3D
CALSCALE:GREGORIAN
BEGIN:VEVENT
DTSTART:20190510T230000Z
DTEND:20190511T030000Z
X-MICROSOFT-CDO-ALLDAYEVENT:FALSE
SUMMARY:Summer Concert Series
DESCRIPTION:See the first summer concert series at the new Independence Uptown Market on Friday\, May 10th\, 2019! The Brad Cunningham Band will perform live at 7 p.m. with the pre-show sponsored by 3 Trails Brewing Co. featuring the band Arkansauce beginning at 6 PM. \n\n\n\nThe concert is the first in a new summer concert series presented by the City of Independence and the Independence Chamber of Commerce. The concert series will lead up to the SantaCaliGon Days Festival on Labor Day Weekend!\n\n\n\nSUMMER CONCERT SERIES DATES:\n\nFriday\, May 10th - Brad Cunningham Band\n\nFriday\, June 21st - Three Infinity featuring Julia Reynolds \n\nFriday\, July 12th - Bob & Una Walkenhorst\n\nFriday\, August 9th - Cadillac Flamb  \n\n\n\nAdmission is free and open to the public. Food and drink will be offered for sale inside the venue. Lawn chairs are welcomed.\n\n\n\nPrepare for a good time and make new friends in Independence!
X-ALT-DESC;FMTTYPE=text/html:<span style="color: rgb(29\, 33\, 41)\; font-family: Helvetica\, Arial\, sans-serif\; font-size: 14px\; white-space: pre-wrap\;">See the first summer concert series at the new Independence Uptown Market on Friday\, May 10th\, 2019! The Brad Cunningham Band will perform live at 7 p.m. with the pre-show sponsored by 3 Trails Brewing Co. featuring the band Arkansauce beginning at 6 PM. </span><br style="color: rgb(29\, 33\, 41)\; font-family: Helvetica\, Arial\, sans-serif\; font-size: 14px\; white-space: pre-wrap\;" />\n<br style="color: rgb(29\, 33\, 41)\; font-family: Helvetica\, Arial\, sans-serif\; font-size: 14px\; white-space: pre-wrap\;" />\n<span style="color: rgb(29\, 33\, 41)\; font-family: Helvetica\, Arial\, sans-serif\; font-size: 14px\; white-space: pre-wrap\;">The concert is the first in a new summer concert series presented by the City of Independence and the Independence Chamber of Commerce. The concert series will lead up to the SantaCaliGon Days Festival on Labor Day Weekend!</span><br style="color: rgb(29\, 33\, 41)\; font-family: Helvetica\, Arial\, sans-serif\; font-size: 14px\; white-space: pre-wrap\;" />\n<br style="color: rgb(29\, 33\, 41)\; font-family: Helvetica\, Arial\, sans-serif\; font-size: 14px\; white-space: pre-wrap\;" />\n<span style="color: rgb(29\, 33\, 41)\; font-family: Helvetica\, Arial\, sans-serif\; font-size: 14px\; white-space: pre-wrap\;">SUMMER CONCERT SERIES DATES:</span><br style="color: rgb(29\, 33\, 41)\; font-family: Helvetica\, Arial\, sans-serif\; font-size: 14px\; white-space: pre-wrap\;" />\n<span style="color: rgb(29\, 33\, 41)\; font-family: Helvetica\, Arial\, sans-serif\; font-size: 14px\; white-space: pre-wrap\;">Friday\, May 10th - Brad Cunningham Band</span><br style="color: rgb(29\, 33\, 41)\; font-family: Helvetica\, Arial\, sans-serif\; font-size: 14px\; white-space: pre-wrap\;" />\n<span style="color: rgb(29\, 33\, 41)\; font-family: Helvetica\, Arial\, sans-serif\; font-size: 14px\; white-space: pre-wrap\;">Friday\, June 21st - Three Infinity featuring Julia Reynolds </span><br style="color: rgb(29\, 33\, 41)\; font-family: Helvetica\, Arial\, sans-serif\; font-size: 14px\; white-space: pre-wrap\;" />\n<span style="color: rgb(29\, 33\, 41)\; font-family: Helvetica\, Arial\, sans-serif\; font-size: 14px\; white-space: pre-wrap\;">Friday\, July 12th - Bob &amp\; Una Walkenhorst</span><br style="color: rgb(29\, 33\, 41)\; font-family: Helvetica\, Arial\, sans-serif\; font-size: 14px\; white-space: pre-wrap\;" />\n<span style="color: rgb(29\, 33\, 41)\; font-family: Helvetica\, Arial\, sans-serif\; font-size: 14px\; white-space: pre-wrap\;">Friday\, August 9th - Cadillac Flamb&eacute\; </span><br style="color: rgb(29\, 33\, 41)\; font-family: Helvetica\, Arial\, sans-serif\; font-size: 14px\; white-space: pre-wrap\;" />\n<br style="color: rgb(29\, 33\, 41)\; font-family: Helvetica\, Arial\, sans-serif\; font-size: 14px\; white-space: pre-wrap\;" />\n<span style="color: rgb(29\, 33\, 41)\; font-family: Helvetica\, Arial\, sans-serif\; font-size: 14px\; white-space: pre-wrap\;">Admission is free and open to the public. Food and drink will be offered for sale inside the venue. Lawn chairs are welcomed.</span><br style="color: rgb(29\, 33\, 41)\; font-family: Helvetica\, Arial\, sans-serif\; font-size: 14px\; white-space: pre-wrap\;" />\n<br style="color: rgb(29\, 33\, 41)\; font-family: Helvetica\, Arial\, sans-serif\; font-size: 14px\; white-space: pre-wrap\;" />\n<span style="color: rgb(29\, 33\, 41)\; font-family: Helvetica\, Arial\, sans-serif\; font-size: 14px\; white-space: pre-wrap\;">Prepare for a good time and make new friends in Independence!</span>
LOCATION:Independence Uptown Market 211 W. Truman Road Independence\, MO 64050
UID:e.2043.9058
SEQUENCE:3
DTSTAMP:20260424T223728Z
URL:https://business.ichamber.biz/events/details/summer-concert-series-9058
END:VEVENT

END:VCALENDAR
