BEGIN:VCALENDAR
VERSION:2.0
PRODID:-//ChamberMaster//Event Calendar 2.0//EN
METHOD:PUBLISH
X-PUBLISHED-TTL:P3D
REFRESH-INTERVAL:P3D
CALSCALE:GREGORIAN
BEGIN:VEVENT
DTSTART:20290311T144500Z
DTEND:20290311T160000Z
X-MICROSOFT-CDO-ALLDAYEVENT:FALSE
SUMMARY:Sunday Worship Services
DESCRIPTION:
X-ALT-DESC;FMTTYPE=text/html:
LOCATION:17902 North Whitney Road\, Independence\, MO 64058
UID:e.2043.19672
SEQUENCE:3
DTSTAMP:20260421T131414Z
URL:https://business.ichamber.biz/events/details/sunday-worship-services-03-11-2029-19672
END:VEVENT

END:VCALENDAR
