BEGIN:VCALENDAR
VERSION:2.0
PRODID:-//ChamberMaster//Event Calendar 2.0//EN
METHOD:PUBLISH
X-PUBLISHED-TTL:P3D
REFRESH-INTERVAL:P3D
CALSCALE:GREGORIAN
BEGIN:VEVENT
DTSTART;VALUE=DATE:20240307
DTEND;VALUE=DATE:20240308
TRANSP:TRANSPARENT
X-MICROSOFT-CDO-ALLDAYEVENT:TRUE
SUMMARY:Tasty Thursday
DESCRIPTION:Join us for a lunch mob the first Thursday of each month\, where we patronize a Chamber member in the food industry. The best part? There's no set time   come whenever it suits you! But mark your calendars for the dedicated networking hour from 12 pm to 1 pm. \n\nCan't make it on the day? No worries! Show your support by leaving a glowing review for our fantastic Chamber member on social media.
X-ALT-DESC;FMTTYPE=text/html:<p><span style="font-size:16px\;"><span style="font-family:arial\;">Join us for a lunch mob the first Thursday of each month\, where we patronize a Chamber member in the food industry. The best part? There&#39\;s no set time &ndash\; come whenever it suits you! <strong>But mark your calendars for the dedicated networking hour from 12 pm to 1 pm. </strong></span></span></p>\n\n<p><span style="font-size:16px\;"><span style="font-family:arial\;">Can&#39\;t make it on the day? No worries!&nbsp\;</span></span><span style="font-size:16px\;"><span style="font-family:arial\;">Show your support by leaving a glowing review for our fantastic </span></span><span style="font-size:16px\;"><span style="font-family:arial\;">Chamber member on social media.</span></span></p>\n
LOCATION:Big Biscuit 16506 East US Highway 40 Independence\, MO 64055
UID:e.2043.15154
SEQUENCE:3
DTSTAMP:20260421T155246Z
URL:https://business.ichamber.biz/events/details/tasty-thursday-03-07-2024-15154
END:VEVENT

END:VCALENDAR
