BEGIN:VCALENDAR
VERSION:2.0
PRODID:-//ChamberMaster//Event Calendar 2.0//EN
METHOD:PUBLISH
X-PUBLISHED-TTL:P3D
REFRESH-INTERVAL:P3D
CALSCALE:GREGORIAN
BEGIN:VEVENT
DTSTART:20200723T150000Z
DTEND:20200723T160000Z
X-MICROSOFT-CDO-ALLDAYEVENT:FALSE
SUMMARY:The COVID Economy
DESCRIPTION:The Workforce and Economic Development Division is pleased to offer a series of additional webinars to address workforce issues during this unprecedented time. \n\n \n\nThis session is entitled "The COVID Economy." The webinar will be presented by Chris Kuehl\, Managing Director of Armada Corporate Intelligence.
X-ALT-DESC;FMTTYPE=text/html:<span style="font-size:12px\;"><span style="color:#161D26\;"><span style="font-family:arial\,sans-serif\;">The Workforce and Economic Development Division is pleased to offer a series of additional webinars to address workforce issues during this unprecedented time. </span></span><br />\n&nbsp\;<br />\n<span style="color:#161D26\;"><span style="font-family:arial\,sans-serif\;">This session is entitled &quot\;<strong>The COVID Economy</strong><strong><em>.</em></strong>&quot\; The webinar will be presented by Chris Kuehl\, Managing Director of Armada Corporate Intelligence.</span></span></span>
LOCATION:Webinar--Register for Link
UID:e.2043.12929
SEQUENCE:3
DTSTAMP:20260425T125857Z
URL:https://business.ichamber.biz/events/details/the-covid-economy-12929
END:VEVENT

END:VCALENDAR
