BEGIN:VCALENDAR
VERSION:2.0
PRODID:-//ChamberMaster//Event Calendar 2.0//EN
METHOD:PUBLISH
X-PUBLISHED-TTL:P3D
REFRESH-INTERVAL:P3D
CALSCALE:GREGORIAN
BEGIN:VEVENT
DTSTART:20190423T190000Z
DTEND:20190423T203000Z
X-MICROSOFT-CDO-ALLDAYEVENT:FALSE
SUMMARY:The Midwest Genealogy Center Presents: Exploring Ancient Ireland
DESCRIPTION:Join Sean Kane for a trip to ancient Ireland. Hear stories from Ireland's ancient history and mythology and view photos of artifacts housed in Ireland's museums.
X-ALT-DESC;FMTTYPE=text/html:<span style="background-color:rgb(245\, 245\, 245)\; font-family:helvetica neue\,helvetica\,arial\,sans-serif\; font-size:14px">Join Sean Kane for a trip to ancient Ireland. Hear stories from Ireland&#39\;s ancient history and mythology and view photos of artifacts housed in Ireland&#39\;s museums.</span>
LOCATION:Midwest Genealogy Center 3440 S. Lee's Summit Rd Independence\, MO 64055
UID:e.2043.9053
SEQUENCE:3
DTSTAMP:20260424T223913Z
URL:https://business.ichamber.biz/events/details/the-midwest-genealogy-center-presents-exploring-ancient-ireland-9053
END:VEVENT

END:VCALENDAR
