BEGIN:VCALENDAR
VERSION:2.0
PRODID:-//ChamberMaster//Event Calendar 2.0//EN
METHOD:PUBLISH
X-PUBLISHED-TTL:P3D
REFRESH-INTERVAL:P3D
CALSCALE:GREGORIAN
BEGIN:VEVENT
DTSTART:20190426T190000Z
DTEND:20190426T203000Z
X-MICROSOFT-CDO-ALLDAYEVENT:FALSE
SUMMARY:The Midwest Genealogy Center Presents: Front Lines to Headlines - The WWI Overseas Dispatches of a Kansas City Star Reporter
DESCRIPTION:Join local historian and author of "Voices in Bronze and Stone: Kansas City's World War I Monuments and Memorials" James J. Heiman as he discusses his latest book\, "Front Lines to Headlines: The World War I Overseas Dispatches of Otto P. Higgins." Dive into the research\, hear interesting facts\, and see photos not included in the book.
X-ALT-DESC;FMTTYPE=text/html:<span style="background-color:rgb(245\, 245\, 245)\; font-family:helvetica neue\,helvetica\,arial\,sans-serif\; font-size:14px">Join local historian and author of &quot\;Voices in Bronze and Stone: Kansas City&#39\;s World War I Monuments and Memorials&quot\; James J. Heiman as he discusses his latest book\, &quot\;Front Lines to Headlines: The World War I Overseas Dispatches of Otto P. Higgins.&quot\; Dive into the research\, hear interesting facts\, and see photos not included in the book.</span>
LOCATION:Midwest Genealogy Center 3440 S. Lee's Summit Rd Independence\, MO 64055
UID:e.2043.9054
SEQUENCE:3
DTSTAMP:20260424T224546Z
URL:https://business.ichamber.biz/events/details/the-midwest-genealogy-center-presents-front-lines-to-headlines-the-wwi-overseas-dispatches-of-a-kansas-city-star-reporter-9054
END:VEVENT

END:VCALENDAR
