BEGIN:VCALENDAR
VERSION:2.0
PRODID:-//ChamberMaster//Event Calendar 2.0//EN
METHOD:PUBLISH
X-PUBLISHED-TTL:P3D
REFRESH-INTERVAL:P3D
CALSCALE:GREGORIAN
BEGIN:VEVENT
DTSTART:20190306T200000Z
DTEND:20190306T210000Z
X-MICROSOFT-CDO-ALLDAYEVENT:FALSE
SUMMARY:The Midwest Genealogy Center Presents: Let It Be - The Beatles\, January 1969
DESCRIPTION:In January 1969\, the Beatles recorded what would ultimately become the "Let it Be" album. Paradoxically\, it was the least understood and most well-documented month of the band's entire existence. Join Beatles scholar and author Aaron Krerowicz for a multimedia exploration of what happened during that fractious month through quotes from the band members and "fly on the wall" excerpts from the sessions.
X-ALT-DESC;FMTTYPE=text/html:<span style="background-color:rgb(245\, 245\, 245)\; font-family:helvetica neue\,helvetica\,arial\,sans-serif\; font-size:14px">In January 1969\, the Beatles recorded what would ultimately become the &quot\;Let it Be&quot\; album. Paradoxically\, it was the least understood and most well-documented month of the band&#39\;s entire existence. Join Beatles scholar and author Aaron Krerowicz for a multimedia exploration of what happened during that fractious month through quotes from the band members and &quot\;fly on the wall&quot\; excerpts from the sessions.</span>
LOCATION:Midwest Genealogy Center 3440 S. Lee's Summit Rd Independence\, MO 64055
UID:e.2043.9044
SEQUENCE:3
DTSTAMP:20260424T212123Z
URL:https://business.ichamber.biz/events/details/the-midwest-genealogy-center-presents-let-it-be-the-beatles-january-1969-9044
END:VEVENT

END:VCALENDAR
