BEGIN:VCALENDAR
VERSION:2.0
PRODID:-//ChamberMaster//Event Calendar 2.0//EN
METHOD:PUBLISH
X-PUBLISHED-TTL:P3D
REFRESH-INTERVAL:P3D
CALSCALE:GREGORIAN
BEGIN:VEVENT
DTSTART:20190328T230000Z
DTEND:20190329T003000Z
X-MICROSOFT-CDO-ALLDAYEVENT:FALSE
SUMMARY:The Midwest Genealogy Center Presents: Mexican American Baseball in Kansas City
DESCRIPTION:Mexican American baseball flourished in Kansas City at the start of the 20th century as Mexican immigrants moved to the Midwest to find work and economic opportunities. Learn about Kansas City's "Brown Leagues\," their standout teams and players\, and their unique ways of confronting discrimination and promoting the spirit for social equality and ethnic solidarity through baseball.
X-ALT-DESC;FMTTYPE=text/html:<span style="background-color:rgb(245\, 245\, 245)\; font-family:helvetica neue\,helvetica\,arial\,sans-serif\; font-size:14px">Mexican American baseball flourished in Kansas City at the start of the 20th century as Mexican immigrants moved to the Midwest to find work and economic opportunities. Learn about Kansas City&rsquo\;s &ldquo\;Brown Leagues\,&rdquo\; their standout teams and players\, and their unique ways of confronting discrimination and promoting the spirit for social equality and ethnic solidarity through baseball.</span>
LOCATION:Midwest Genealogy Center 3440 S. Lee's Summit Rd Independence\, MO 64055
UID:e.2043.9049
SEQUENCE:3
DTSTAMP:20260424T212151Z
URL:https://business.ichamber.biz/events/details/the-midwest-genealogy-center-presents-mexican-american-baseball-in-kansas-city-9049
END:VEVENT

END:VCALENDAR
