BEGIN:VCALENDAR
VERSION:2.0
PRODID:-//ChamberMaster//Event Calendar 2.0//EN
METHOD:PUBLISH
X-PUBLISHED-TTL:P3D
REFRESH-INTERVAL:P3D
CALSCALE:GREGORIAN
BEGIN:VEVENT
DTSTART:20190418T233000Z
DTEND:20190419T003000Z
X-MICROSOFT-CDO-ALLDAYEVENT:FALSE
SUMMARY:The Midwest Genealogy Center Presents: Tea Around the World
DESCRIPTION:Journey across 5\,000 years and six continents to discover tales of mystery\, intrigue\, rebellion\, and espionage that surround the world's second-most popular beverage.
X-ALT-DESC;FMTTYPE=text/html:<span style="background-color:rgb(245\, 245\, 245)\; font-family:helvetica neue\,helvetica\,arial\,sans-serif\; font-size:14px">Journey across 5\,000 years and six continents to discover tales of mystery\, intrigue\, rebellion\, and espionage that surround the world&rsquo\;s second-most popular beverage.</span>
LOCATION:Midwest Genealogy Center 3440 S. Lee's Summit Rd Independence\, MO 64055
UID:e.2043.9051
SEQUENCE:3
DTSTAMP:20260424T224059Z
URL:https://business.ichamber.biz/events/details/the-midwest-genealogy-center-presents-tea-around-the-world-9051
END:VEVENT

END:VCALENDAR
