BEGIN:VCALENDAR
VERSION:2.0
PRODID:-//ChamberMaster//Event Calendar 2.0//EN
METHOD:PUBLISH
X-PUBLISHED-TTL:P3D
REFRESH-INTERVAL:P3D
CALSCALE:GREGORIAN
BEGIN:VEVENT
DTSTART:20190410T233000Z
DTEND:20190411T003000Z
X-MICROSOFT-CDO-ALLDAYEVENT:FALSE
SUMMARY:The Midwest Genealogy Center Presents: Traveling in France
DESCRIPTION:Take a virtual tour of France from the comfort of the Library. See France's historical sites\, museums\, galleries\, street life\, and restaurants\, and maybe plan a trip of your own.
X-ALT-DESC;FMTTYPE=text/html:<span style="background-color:rgb(245\, 245\, 245)\; font-family:helvetica neue\,helvetica\,arial\,sans-serif\; font-size:14px">Take a virtual tour of France from the comfort of the Library. See France&rsquo\;s historical sites\, museums\, galleries\, street life\, and restaurants\, and maybe plan a trip of your own.</span>
LOCATION:Midwest Genealogy Center 3440 S. Lee's Summit Rd Independence\, MO 64055
UID:e.2043.9050
SEQUENCE:3
DTSTAMP:20260424T224435Z
URL:https://business.ichamber.biz/events/details/the-midwest-genealogy-center-presents-traveling-in-france-9050
END:VEVENT

END:VCALENDAR
