BEGIN:VCALENDAR
VERSION:2.0
PRODID:-//ChamberMaster//Event Calendar 2.0//EN
METHOD:PUBLISH
X-PUBLISHED-TTL:P3D
REFRESH-INTERVAL:P3D
CALSCALE:GREGORIAN
BEGIN:VEVENT
DTSTART:20190316T153000Z
DTEND:20190316T163000Z
X-MICROSOFT-CDO-ALLDAYEVENT:FALSE
SUMMARY:The Midwest Genealogy Center Presents: We Who Dared - Inspiring Lives of Female Heroes
DESCRIPTION:The Age of the Woman has begun as Wonder Woman and Doctor Who take center stage. Join an exploration of the lives of other amazing women who have led the way. Who will be your new hero?
X-ALT-DESC;FMTTYPE=text/html:<span style="background-color:rgb(245\, 245\, 245)\; font-family:helvetica neue\,helvetica\,arial\,sans-serif\; font-size:14px">The Age of the Woman has begun as Wonder Woman and Doctor Who take center stage. Join an exploration of the lives of other amazing women who have led the way. Who will be your new hero?</span>
LOCATION:Midwest Genealogy Center 3440 S. Lee's Summit Rd Independence\, MO 64055
UID:e.2043.9046
SEQUENCE:3
DTSTAMP:20260424T212151Z
URL:https://business.ichamber.biz/events/details/the-midwest-genealogy-center-presents-we-who-dared-inspiring-lives-of-female-heroes-9046
END:VEVENT

END:VCALENDAR
