BEGIN:VCALENDAR
VERSION:2.0
PRODID:-//ChamberMaster//Event Calendar 2.0//EN
METHOD:PUBLISH
X-PUBLISHED-TTL:P3D
REFRESH-INTERVAL:P3D
CALSCALE:GREGORIAN
BEGIN:VEVENT
DTSTART:20190312T233000Z
DTEND:20190313T003000Z
X-MICROSOFT-CDO-ALLDAYEVENT:FALSE
SUMMARY:The Midwest Genealogy Center Presents: Women Who Made a Difference in Kansas City
DESCRIPTION:Very little of any socially redeeming value would have been accomplished in Kansas City without the driving force of women according to author Bruce Mathews. Drawing from his five books chronicling the city's history\, Mathews tells the stories of the women who shaped our city through their leadership and moral compasses.
X-ALT-DESC;FMTTYPE=text/html:<span style="background-color:rgb(245\, 245\, 245)\; font-family:helvetica neue\,helvetica\,arial\,sans-serif\; font-size:14px">Very little of any socially redeeming value would have been accomplished in Kansas City without the driving force of women according to author Bruce Mathews. Drawing from his five books chronicling the city&#39\;s history\, Mathews tells the stories of the women who shaped our city through their leadership and moral compasses.</span>
LOCATION:Midwest Genealogy Center 3440 S. Lee's Summit Rd Independence\, MO 64055
UID:e.2043.9045
SEQUENCE:3
DTSTAMP:20260424T212221Z
URL:https://business.ichamber.biz/events/details/the-midwest-genealogy-center-presents-women-who-made-a-difference-in-kansas-city-9045
END:VEVENT

END:VCALENDAR
