BEGIN:VCALENDAR
VERSION:2.0
PRODID:-//ChamberMaster//Event Calendar 2.0//EN
METHOD:PUBLISH
X-PUBLISHED-TTL:P3D
REFRESH-INTERVAL:P3D
CALSCALE:GREGORIAN
BEGIN:VEVENT
DTSTART:20190331T190000Z
DTEND:20190331T220000Z
X-MICROSOFT-CDO-ALLDAYEVENT:FALSE
SUMMARY:Top Golf Par-Tee
DESCRIPTION:Join Developing Potential for our Top-Golf Par-Tee! This event will include food\, drinks\, golf play\, a 50/50 raffle\, and a silent auction. Gather your friends\, family\, pro golfers\, amateur golfers\, or co-workers and gear up for a fun time! No experience for this fun time! All ages\, all skill levels welcome. A fun time is to be had by all! \n\n\n\nSponsorship opportunities are available along with single tickets. \n\n\n\nAll proceeds will go towards Developing Potential's Capital Campaign.\n\n\n\nContact Amy Cox at acox@developingpotential.org or 816-525-6000 ext. 107 for more information
X-ALT-DESC;FMTTYPE=text/html:Join Developing Potential for our Top-Golf Par-Tee! This event will include food\, drinks\, golf play\, a 50/50 raffle\, and a silent auction. Gather your friends\, family\, pro golfers\, amateur golfers\, or co-workers and gear up for a fun time! No experience for this fun time! All ages\, all skill levels welcome. A fun time is to be had by all!&nbsp\;<br />\n<br />\nSponsorship opportunities are available along with single tickets.&nbsp\;<br />\n<br />\nAll proceeds will go towards Developing Potential&#39\;s Capital Campaign.<br />\n<br />\nContact Amy Cox at acox@developingpotential.org or 816-525-6000 ext. 107 for more information
LOCATION:Top Golf Kansas City 10611 Nall Avenue Overland Park\, KS
UID:e.2043.9286
SEQUENCE:3
DTSTAMP:20260424T211621Z
URL:https://business.ichamber.biz/events/details/top-golf-par-tee-9286
END:VEVENT

END:VCALENDAR
