BEGIN:VCALENDAR
VERSION:2.0
PRODID:-//ChamberMaster//Event Calendar 2.0//EN
METHOD:PUBLISH
X-PUBLISHED-TTL:P3D
REFRESH-INTERVAL:P3D
CALSCALE:GREGORIAN
BEGIN:VEVENT
DTSTART:20171005T213000Z
DTEND:20171005T230000Z
X-MICROSOFT-CDO-ALLDAYEVENT:FALSE
SUMMARY:Truman at Truman Event
DESCRIPTION:Join us for a social event!\n\nThis is an exclusive event for our Truman Level members to network and mingle with each other and the Chamber Board of Directors. \n\nCome and enjoy an afternoon of drinks and hors d'oeuvres.
X-ALT-DESC;FMTTYPE=text/html:Join us for a social event!<br />\nThis is an exclusive event for our Truman Level members to network and mingle with each other and the Chamber Board of Directors.&nbsp\;<br />\nCome and enjoy an afternoon of drinks and hors&nbsp\;d&#39\;oeuvres.
LOCATION:Harry S. Truman Presidential Library and Museum 500 W US Hwy 24 Independence\, MO 64050
UID:e.2043.4983
SEQUENCE:3
DTSTAMP:20260424T082041Z
URL:https://business.ichamber.biz/events/details/truman-at-truman-event-10-05-2017-4983
END:VEVENT

END:VCALENDAR
