BEGIN:VCALENDAR
VERSION:2.0
PRODID:-//ChamberMaster//Event Calendar 2.0//EN
METHOD:PUBLISH
X-PUBLISHED-TTL:P3D
REFRESH-INTERVAL:P3D
CALSCALE:GREGORIAN
BEGIN:VEVENT
DTSTART:20181011T213000Z
DTEND:20181011T230000Z
X-MICROSOFT-CDO-ALLDAYEVENT:FALSE
SUMMARY:Truman at Truman Event
DESCRIPTION:Join us for a social event and white glove experience!\n\nThis is an exclusive event for our Truman Level and above members along with the Chamber Board of Directors.\n\nEnjoy networking\, drinks & hors d'oeuvres especially prepared for you by Ophelia's. \n\nAlso\, come view Kansas City Open Spaces 2018 "Break Into Blossom" exclusive exhibition.\n\nClick this link to learn more https://openspaceskc.com/participant/sarah-nguyen/#contribution
X-ALT-DESC;FMTTYPE=text/html:Join us for a social event and white glove experience!<br />\nThis is an exclusive event for our Truman Level and above members along with the Chamber Board of Directors.<br />\nEnjoy networking\, drinks &amp\; hors d&#39\;oeuvres especially prepared for you by Ophelia&#39\;s.&nbsp\;<br />\nAlso\, come view Kansas City Open Spaces 2018 &quot\;Break Into Blossom&quot\; exclusive exhibition.<br />\nClick this link to learn more&nbsp\;<a href="https://openspaceskc.com/participant/sarah-nguyen/#contribution">https://openspaceskc.com/participant/sarah-nguyen/#contribution</a>
LOCATION:Harry S. Truman Presidential Library and Museum 500 W US Hwy 24 Independence\, MO 64050
UID:e.2043.8416
SEQUENCE:3
DTSTAMP:20260424T131734Z
URL:https://business.ichamber.biz/events/details/truman-at-truman-event-8416
END:VEVENT

END:VCALENDAR
