BEGIN:VCALENDAR
VERSION:2.0
PRODID:-//ChamberMaster//Event Calendar 2.0//EN
METHOD:PUBLISH
X-PUBLISHED-TTL:P3D
REFRESH-INTERVAL:P3D
CALSCALE:GREGORIAN
BEGIN:VEVENT
DTSTART:20171021T170000Z
DTEND:20171021T181500Z
X-MICROSOFT-CDO-ALLDAYEVENT:FALSE
SUMMARY:Vaccine Injury
DESCRIPTION:VACCINE INJURY\n\nAre these injuries even real?\n\nIn honor of October being vaccine injury awareness month\, let's get together to talk and learn from each other. In this I will discuss global views on vaccines and the divide in our own country\, the very basics on vaccine purpose\, our government and societal response to the idea of vaccine injuries\, and what is some research showing about the validity of vaccine injury.
X-ALT-DESC;FMTTYPE=text/html:<h1>VACCINE INJURY</h1>\n\n<h2>Are these injuries even real?</h2>\n\n<p>In honor of October being vaccine injury awareness month\, let&rsquo\;s get together to talk and learn from each other. In this I will discuss global views on vaccines and the divide in our own country\, the very basics on vaccine purpose\, our government and societal response to the idea of vaccine injuries\, and what is some research showing about the validity of vaccine injury.</p>\n
LOCATION:Natural Grocers - Independence 19019 E. 49th Street S. Independence\, MO
UID:e.2043.5336
SEQUENCE:3
DTSTAMP:20260420T054816Z
URL:https://business.ichamber.biz/events/details/vaccine-injury-10-21-2017-5336
END:VEVENT

END:VCALENDAR
