BEGIN:VCALENDAR
VERSION:2.0
PRODID:-//ChamberMaster//Event Calendar 2.0//EN
METHOD:PUBLISH
X-PUBLISHED-TTL:P3D
REFRESH-INTERVAL:P3D
CALSCALE:GREGORIAN
BEGIN:VEVENT
DTSTART:20200414T140000Z
DTEND:20200414T150000Z
X-MICROSOFT-CDO-ALLDAYEVENT:FALSE
SUMMARY:Virtual Ambassadors Committee Meeting
DESCRIPTION:The Ambassadors committee meets the second Tuesday of each month at 9am.\n\n\n\nAmbassadors help promote the Chamber\, support chamber functions and work to retain and build membership. Projecting a positive image\, assisting with volunteer roles at events\, and reaching out to members along with recruiting new members are among the primary activities of an Ambassador. Examples of Ambassador tasks include: calling or visiting with new and prospective members\, inviting members to events\, greeting attendees at events\, and table hosts at luncheons.
X-ALT-DESC;FMTTYPE=text/html:The Ambassadors committee meets the second Tuesday of each month at 9am.<br />\n<br />\nAmbassadors help promote the Chamber\, support chamber functions and work to retain and build membership. Projecting a positive image\, assisting with volunteer roles at events\, and reaching out to members along with recruiting new members are among the primary activities of an Ambassador. Examples&nbsp\;of Ambassador tasks include: calling or visiting with new and prospective members\, inviting members to events\, greeting attendees at events\, and table hosts at luncheons.
LOCATION:Chamber Boardroom 210 W Truman Rd Independence MO 64050
UID:e.2043.8921
SEQUENCE:3
DTSTAMP:20260425T105704Z
URL:https://business.ichamber.biz/events/details/virtual-ambassadors-committee-meeting-8921
END:VEVENT

END:VCALENDAR
