BEGIN:VCALENDAR
VERSION:2.0
PRODID:-//ChamberMaster//Event Calendar 2.0//EN
METHOD:PUBLISH
X-PUBLISHED-TTL:P3D
REFRESH-INTERVAL:P3D
CALSCALE:GREGORIAN
BEGIN:VEVENT
DTSTART:20200514T213000Z
DTEND:20200514T223000Z
X-MICROSOFT-CDO-ALLDAYEVENT:FALSE
SUMMARY:Virtual: Happy Hour Networking: Hosted by the YIPs
DESCRIPTION:You must be registered to get the Zoom link! We will send out the link to all registered participants the day of the event!\n\n\n\nJoin the Young Independence Professionals for their monthly networking meeting! The YIPS meet every second Thursday of the month and alternate with coffee and happy hour networking.
X-ALT-DESC;FMTTYPE=text/html:<strong>You must be registered to get the Zoom link!</strong> We will send out the link to all registered participants the day of the event!<br />\n<br />\nJoin the Young Independence Professionals for their monthly networking meeting! The YIPS meet every second Thursday of the month and alternate with coffee and happy hour networking.&nbsp\;
LOCATION:Online Zoom Meeting
UID:e.2043.12854
SEQUENCE:3
DTSTAMP:20260425T104406Z
URL:https://business.ichamber.biz/events/details/virtual-happy-hour-networking-hosted-by-the-yips-12854
END:VEVENT

END:VCALENDAR
