BEGIN:VCALENDAR
VERSION:2.0
PRODID:-//ChamberMaster//Event Calendar 2.0//EN
METHOD:PUBLISH
X-PUBLISHED-TTL:P3D
REFRESH-INTERVAL:P3D
CALSCALE:GREGORIAN
BEGIN:VEVENT
DTSTART:20200625T164500Z
DTEND:20200625T174500Z
X-MICROSOFT-CDO-ALLDAYEVENT:FALSE
SUMMARY:Virtual Monthly Membership Luncheon
DESCRIPTION:Join our Monthly Membership Luncheon virtually to hear from the Governor's office regarding COVID19 updates and clarifications on later phases of Jackson County's re-opening plan.
X-ALT-DESC;FMTTYPE=text/html:<p style="margin: 0px\; padding: 4px 0px 10px\; border: 0px\; font-size: 14px\; vertical-align: baseline\; line-height: 18px\; font-family: Arial\, Helvetica\, sans-serif\;">Join our Monthly Membership Luncheon virtually to hear from the Governor&#39\;s office regarding COVID19 updates and clarifications on later phases of Jackson County&#39\;s re-opening plan.</p>\n\n<p style="margin: 0px\; padding: 4px 0px 10px\; border: 0px\; font-size: 14px\; vertical-align: baseline\; color: rgb(51\, 51\, 51)\; line-height: 18px\; font-family: Arial\, Helvetica\, sans-serif\;">&nbsp\;</p>\n
LOCATION:This will be a virtual meeting. Login information will be sent out at least 1 hour prior to all registered participants.
UID:e.2043.11983
SEQUENCE:3
DTSTAMP:20260425T115215Z
URL:https://business.ichamber.biz/events/details/virtual-monthly-membership-luncheon-06-25-2020-11983
END:VEVENT

END:VCALENDAR
