BEGIN:VCALENDAR
VERSION:2.0
PRODID:-//ChamberMaster//Event Calendar 2.0//EN
METHOD:PUBLISH
X-PUBLISHED-TTL:P3D
REFRESH-INTERVAL:P3D
CALSCALE:GREGORIAN
BEGIN:VEVENT
DTSTART:20190309T150000Z
DTEND:20190310T220000Z
X-MICROSOFT-CDO-ALLDAYEVENT:FALSE
SUMMARY:Wedding Bells & Cocktails Expo
DESCRIPTION:Booth's are available for this event!
X-ALT-DESC;FMTTYPE=text/html:Booth&#39\;s are available for this event!&nbsp\;
LOCATION:Adam's Mark Hotel & Conference Center
UID:e.2043.9041
SEQUENCE:3
DTSTAMP:20260424T211830Z
URL:https://business.ichamber.biz/events/details/wedding-bells-cocktails-expo-9041
END:VEVENT

END:VCALENDAR
