BEGIN:VCALENDAR
VERSION:2.0
PRODID:-//ChamberMaster//Event Calendar 2.0//EN
METHOD:PUBLISH
X-PUBLISHED-TTL:P3D
REFRESH-INTERVAL:P3D
CALSCALE:GREGORIAN
BEGIN:VEVENT
DTSTART:20200512T190000Z
DTEND:20200512T200000Z
X-MICROSOFT-CDO-ALLDAYEVENT:FALSE
SUMMARY:What's Your Key to Success: "New Normal" Technology Integration
DESCRIPTION:We're turning to our members for their expertise advice or information on a particular subject during our "What's Your Key to Success?" sessions. This session will include expert advice on how businesses can integrate technology into their "new normal". Please join us live on the Chamber's Facebook page.
X-ALT-DESC;FMTTYPE=text/html:<span style="font-size:14px\;"><span style="font-family:arial\;"><span style="color:#000000\;">We&#39\;re turning to our members for their expertise advice or information on a particular subject during our &quot\;What&#39\;s Your Key to Success?&quot\; sessions. This session will include expert advice on how businesses can integrate technology into their &quot\;new normal&quot\;. Please join us live on the Chamber&#39\;s Facebook page.<b> </b></span></span></span>
LOCATION:Join us live on the Chamber's Facebook page. You may need to refresh the page when the programming begins.
UID:e.2043.12874
SEQUENCE:3
DTSTAMP:20260425T115633Z
URL:https://business.ichamber.biz/events/details/what-s-your-key-to-success-new-normal-technology-integration-12874
END:VEVENT

END:VCALENDAR
