BEGIN:VCALENDAR
VERSION:2.0
PRODID:-//ChamberMaster//Event Calendar 2.0//EN
METHOD:PUBLISH
X-PUBLISHED-TTL:P3D
REFRESH-INTERVAL:P3D
CALSCALE:GREGORIAN
BEGIN:VEVENT
DTSTART:20180218T000000Z
DTEND:20180218T030000Z
X-MICROSOFT-CDO-ALLDAYEVENT:FALSE
SUMMARY:YIP's at The Rotary Club of Independence's Mardi Gras Carnival Event
DESCRIPTION:
X-ALT-DESC;FMTTYPE=text/html:
LOCATION:Arrowhead Stadium 1 Arrowhead Dr Kansas City\, MO 64129
UID:e.2043.6219
SEQUENCE:3
DTSTAMP:20260424T034844Z
URL:https://business.ichamber.biz/events/details/yip-s-at-the-rotary-club-of-independence-s-mardi-gras-carnival-event-02-17-2018-6219
END:VEVENT

END:VCALENDAR
