BEGIN:VCALENDAR
VERSION:2.0
PRODID:-//ChamberMaster//Event Calendar 2.0//EN
METHOD:PUBLISH
X-PUBLISHED-TTL:P3D
REFRESH-INTERVAL:P3D
CALSCALE:GREGORIAN
BEGIN:VEVENT
DTSTART:20180118T220000Z
DTEND:20180119T000000Z
X-MICROSOFT-CDO-ALLDAYEVENT:FALSE
SUMMARY:YIP's Happy Hour at Summit Grill
DESCRIPTION:Come warm up and have a drink and/or appetizer with us!\n\n\n\nOur Happy Hour Starts at 4pm and Happy Hour prices end at 6pm but come and go as you please\n\n\n\nIf you have never been here for happy hour\, you are in for a treat!\n\n\n\nCheck out their GREAT happy hour prices! https://www.summitgrillkc.com/menu/
X-ALT-DESC;FMTTYPE=text/html:<span style="font-size:14px\;"><span style="font-family:arial\;">Come warm up and have a drink and/or appetizer with us!<br />\n<br />\nOur Happy Hour Starts at 4pm and Happy Hour prices end at 6pm but come and go as you please<br />\n<br />\nIf you have never been here for happy hour\, you are in for a treat!<br />\n<br />\nCheck out their GREAT happy hour prices!<span style="color:#4B4F56\;"> <a href="https://www.summitgrillkc.com/menu/">https://www.summitgrillkc.com/menu/</a></span></span></span><br />\n<br />\n&nbsp\;
LOCATION:Summit Grill & Bar 4835 NE Lakewood Way Lee's Summit\, MO 64064
UID:e.2043.5975
SEQUENCE:3
DTSTAMP:20260424T044950Z
URL:https://business.ichamber.biz/events/details/yip-s-happy-hour-at-summit-grill-01-18-2018-5975
END:VEVENT

END:VCALENDAR
