BEGIN:VCALENDAR
VERSION:2.0
PRODID:-//ChamberMaster//Event Calendar 2.0//EN
METHOD:PUBLISH
X-PUBLISHED-TTL:P3D
REFRESH-INTERVAL:P3D
CALSCALE:GREGORIAN
BEGIN:VEVENT
DTSTART:20180807T230000Z
DTEND:20180808T010000Z
X-MICROSOFT-CDO-ALLDAYEVENT:FALSE
SUMMARY:YIPs 1 Year Anniversary Celebration
DESCRIPTION:Come join our Young Independence Professionals as we celebrate our YIPs 1 Year Anniversary at Diamond Bowl located on the Historic Independence Square. Come enjoy FREE bowling\, pool\, and more! A HUGE thank you to Diamond Bowl for sponsoring!
X-ALT-DESC;FMTTYPE=text/html:<span style="color: rgb(75\, 79\, 86)\; font-family: Helvetica\, Arial\, sans-serif\; font-size: 14px\;">Come join our</span><a data-hovercard="/ajax/hovercard/page.php?id=239825418378&amp\;extragetparams=%7B%22directed_target_id%22%3A274459099762114%7D" data-hovercard-prefer-more-content-show="1" href="https://www.facebook.com/groups/709212319285842/?source_id=114513531907532" style="color: rgb(54\, 88\, 153)\; cursor: pointer\; text-decoration-line: none\; font-family: Helvetica\, Arial\, sans-serif\; font-size: 14px\;">&nbsp\;Young Independence Professionals</a>&nbsp\;as we celebrate our YIPs 1 Year Anniversary<span style="color: rgb(75\, 79\, 86)\; font-family: Helvetica\, Arial\, sans-serif\; font-size: 14px\;">&nbsp\;at <a href="http://www.diamond-bowl.com/">Diamond Bowl</a></span><a href="http://www.thedelawarekc.com/">&nbsp\;</a><span style="color: rgb(75\, 79\, 86)\; font-family: Helvetica\, Arial\, sans-serif\; font-size: 14px\;">located on the Historic Independence Square. Come enjoy FREE bowling\, pool\, and more! A HUGE thank you to Diamond Bowl for sponsoring!&nbsp\;</span><br />\n<br />\n&nbsp\;
LOCATION:Diamond Bowl 218 N. Osage St Independence\, MO 64050
UID:e.2043.8374
SEQUENCE:3
DTSTAMP:20260424T103113Z
URL:https://business.ichamber.biz/events/details/yips-1-year-anniversary-celebration-8374
END:VEVENT

END:VCALENDAR
